BEGIN:VCALENDAR
VERSION:2.0
PRODID:-//ChamberMaster//Event Calendar 2.0//EN
METHOD:PUBLISH
X-PUBLISHED-TTL:P3D
REFRESH-INTERVAL:P3D
CALSCALE:GREGORIAN
BEGIN:VEVENT
DTSTART:20190208T013000Z
DTEND:20190208T030000Z
X-MICROSOFT-CDO-ALLDAYEVENT:FALSE
SUMMARY:HYPE Meeting
DESCRIPTION:Come join the Harbor Young Professionals & Entrepreneurs (HYPE) for their monthly meeting at Tinderbox Coffee Roasters in downtown Aberdeen!\n\nThis month\, we'll be joined by Kevin Spivey from the Spivey Realty Group. He will be discussing the current Grays Harbor real estate market\, pricing and demographic trends\, and opportunities for invest in  Grays Harbor real estate.\n\n\n\nPlease join us to learn about these topics and an open and engaging conversation. We'd love to see you there!
X-ALT-DESC;FMTTYPE=text/html:<span style="font-size:14px\;"><span style="font-family:arial\;"><span style="caret-color: rgb(29\, 33\, 41)\;">Come join the Harbor Young Professionals &amp\; Entrepreneurs (HYPE) for their monthly meeting at Tinderbox Coffee Roasters in downtown Aberdeen!</span><br />\n<span style="caret-color: rgb(80\, 80\, 80)\; background-color: rgb(239\, 239\, 239)\;">This month\, we&rsquo\;ll be joined by Kevin Spivey from the Spivey Realty Group. He will be discussing the current Grays Harbor real estate market\, pricing and demographic trends\, and opportunities for invest in&nbsp\; Grays Harbor real estate.</span><br style="font-size: 16px\; caret-color: rgb(80\, 80\, 80)\; color: rgb(80\, 80\, 80)\; font-family: Helvetica\, sans-serif\;" />\n<br style="font-size: 16px\; caret-color: rgb(80\, 80\, 80)\; color: rgb(80\, 80\, 80)\; font-family: Helvetica\, sans-serif\;" />\n<span style="caret-color: rgb(80\, 80\, 80)\; background-color: rgb(239\, 239\, 239)\;">Please join us to learn about these topics and an open and engaging conversation. We&rsquo\;d love to see you there!</span></span></span>
LOCATION:Tinderbox Coffee Roasters 113 E Wishkah St. Aberdeen\, WA
UID:e.26.11699
SEQUENCE:3
DTSTAMP:20260424T181740Z
URL:https://chamber.graysharbor.org/events/details/hype-learn-about-the-small-business-development-center-02-07-2019-11699
END:VEVENT

END:VCALENDAR
