BEGIN:VCALENDAR
VERSION:2.0
PRODID:-//ChamberMaster//Event Calendar 2.0//EN
METHOD:PUBLISH
X-PUBLISHED-TTL:P3D
REFRESH-INTERVAL:P3D
CALSCALE:GREGORIAN
BEGIN:VEVENT
DTSTART:20190308T013000Z
DTEND:20190308T030000Z
X-MICROSOFT-CDO-ALLDAYEVENT:FALSE
SUMMARY:HYPE Meeting
DESCRIPTION:Come join the Harbor Young Professionals & Entrepreneurs (HYPE) for their monthly meeting!
X-ALT-DESC;FMTTYPE=text/html:<font color="#1d2129"><span style="caret-color: rgb(29\, 33\, 41)\; font-size: 14px\;">Come join the Harbor Young Professionals &amp\; Entrepreneurs (HYPE) for their monthly meeting!</span></font>
LOCATION:TBD
UID:e.26.11700
SEQUENCE:3
DTSTAMP:20260424T163552Z
URL:https://chamber.graysharbor.org/events/details/hype-learn-about-the-small-business-development-center-03-07-2019-11700
END:VEVENT

END:VCALENDAR
