BEGIN:VCALENDAR
VERSION:2.0
PRODID:-//ChamberMaster//Event Calendar 2.0//EN
METHOD:PUBLISH
X-PUBLISHED-TTL:P3D
REFRESH-INTERVAL:P3D
CALSCALE:GREGORIAN
BEGIN:VEVENT
DTSTART:20181005T000000Z
DTEND:20181005T020000Z
X-MICROSOFT-CDO-ALLDAYEVENT:FALSE
SUMMARY:HYPE Meetup!
DESCRIPTION:Please join us for our monthly First Thursday meetup! HYPE (Harbor Young Professionals & Entrepreneurs) meets each month at Tinderbox Coffee Roasters in Downtown Aberdeen as an opportunity for young professionals in the Grays Harbor area to expand their network AND learn a little something new. This month\, we'll be joined by Stephenie Reece from the Aberdeen\, Amanda Park and Westport Timberland Libraries. As part of an ongoing community-centered project\, Stephenie will be leading a conversation on our communities and our aspirations for Grays Harbor. Insights from conversations such as these will guide the Timberland Regional Library toward a strategic plan that is focused on pursuing actions that are meaningful to people and deeply rooted in the communities we serve. We'd love to see you there!
X-ALT-DESC;FMTTYPE=text/html:Please join us for our monthly First Thursday meetup! HYPE (Harbor Young Professionals &amp\; Entrepreneurs) meets each month at Tinderbox Coffee Roasters in Downtown Aberdeen as an opportunity for young professionals in the Grays Harbor area to expand their network AND learn a little something new. This month\, we&#39\;ll be joined by Stephenie Reece from the Aberdeen\, Amanda Park and Westport Timberland Libraries. As part of an ongoing community-centered project\, Stephenie will be leading a conversation on our communities and our aspirations for Grays Harbor. Insights from conversations such as these will guide the Timberland Regional Library toward a strategic plan that is focused on pursuing actions that are meaningful to people and deeply rooted in the communities we serve. We&#39\;d love to see you there!
LOCATION:Tinderbox Coffee
UID:e.26.11271
SEQUENCE:3
DTSTAMP:20260425T001814Z
URL:https://chamber.graysharbor.org/events/details/hype-meetup-11271
END:VEVENT

END:VCALENDAR
