BEGIN:VCALENDAR
VERSION:2.0
PRODID:-//ChamberMaster//Event Calendar 2.0//EN
METHOD:PUBLISH
X-PUBLISHED-TTL:P3D
REFRESH-INTERVAL:P3D
CALSCALE:GREGORIAN
BEGIN:VEVENT
DTSTART:20190906T003000Z
DTEND:20190906T020000Z
X-MICROSOFT-CDO-ALLDAYEVENT:FALSE
SUMMARY:HYPE Planning Meeting
DESCRIPTION:After a brief summer break\, HYPE is ready to start their monthly meetings back up! We hope you can join them on Thursday to tell them what it is that you want to hear about over the coming year. We hope to see you there!
X-ALT-DESC;FMTTYPE=text/html:<span style="caret-color: rgb(29\, 33\, 41)\; color: rgb(29\, 33\, 41)\; font-family: system-ui\, -apple-system\, BlinkMacSystemFont\, &quot\;.SFNSText-Regular&quot\;\, sans-serif\; font-size: 14px\; white-space: pre-wrap\;">After a brief summer break\, HYPE is ready to start their monthly meetings back up! We hope you can join them on Thursday to tell them what it is that you want to hear about over the coming year. We hope to see you there!</span>
LOCATION:pin Tinderbox Coffee Roasters 113 E Wishkah St\, Aberdeen\, Washington 98520
UID:e.26.12381
SEQUENCE:3
DTSTAMP:20260424T073908Z
URL:https://chamber.graysharbor.org/events/details/hype-planning-meeting-12381
END:VEVENT

END:VCALENDAR
