BEGIN:VCALENDAR
VERSION:2.0
PRODID:-//ChamberMaster//Event Calendar 2.0//EN
METHOD:PUBLISH
X-PUBLISHED-TTL:P3D
REFRESH-INTERVAL:P3D
CALSCALE:GREGORIAN
BEGIN:VEVENT
DTSTART:20190224T040000Z
DTEND:20190224T070000Z
X-MICROSOFT-CDO-ALLDAYEVENT:FALSE
SUMMARY:Ian Jones at Mount Olympus
DESCRIPTION:You all are in for a treat! Ian Jones Music is headed Aberdeen's Mount Olympus Brewing Co. to bring you an extraordinary night of music! His music takes you on a virtual road trip through American landscapes\, broken hearts and crying in your beer at the end of the day. With a blend of Outlaw Country\, and Americana\, these amazing lyrics will make this a night you won't forget!\n\n\n\nhttps://www.ianjonesmusic.com/\n\nhttps://www.facebook.com/ianjonesseattle/\n\nhttps://soundcloud.com/ian-jones-47
X-ALT-DESC;FMTTYPE=text/html:<span style="box-sizing: border-box\; -webkit-font-smoothing: subpixel-antialiased\; margin: 0px\; padding: 0px\; border: 0px\; outline: 0px\; font-size: 17.33333396911621px\; font-family: &quot\;Roboto Condensed&quot\;\; vertical-align: baseline\; caret-color: rgb(29\, 33\, 41)\; color: rgb(29\, 33\, 41)\;" white-space:="">You all are in for a treat! Ian Jones Music is headed Aberdeen&#39\;s Mount Olympus Brewing Co. to bring you an extraordinary night of music! His music takes you on a virtual road trip through American landscapes\, broken hearts and crying in your beer at the end of the day. With a blend of Outlaw Country\, and Americana\, these amazing lyrics will make this a night you won&#39\;t forget!</span><br style="box-sizing: border-box\; -webkit-font-smoothing: subpixel-antialiased\; font-family: &quot\;Roboto Condensed&quot\;\; font-size: 17.33333396911621px\; caret-color: rgb(29\, 33\, 41)\; color: rgb(29\, 33\, 41)\;" white-space:="" />\n<br style="box-sizing: border-box\; -webkit-font-smoothing: subpixel-antialiased\; font-family: &quot\;Roboto Condensed&quot\;\; font-size: 17.33333396911621px\; caret-color: rgb(29\, 33\, 41)\; color: rgb(29\, 33\, 41)\;" white-space:="" />\n<a data-lynx-mode="hover" href="https://l.facebook.com/l.php?u=https%3A%2F%2Fwww.ianjonesmusic.com%2F%3Ffbclid%3DIwAR26PsMpmWMweaCMvXgzFqdaQNMQCYFc3lPVzpuiYcGRv0rBV_9-HnBOebs&amp\;h=AT1dXm73z-D0b09zY1WI0XIfhOBWQKxpBfu7ShuxO5tQepgUzvr5KyX0wnlA6kz6S0vGVrkP4KH_0XDAMKTDSWJ2XbnppU93f8MCbb6IWhD1F2XMBy16zVPbooKdkQXd08KtL_g7_Q" rel="nofollow noopener" style="box-sizing: border-box\; -webkit-font-smoothing: subpixel-antialiased\; margin: 0px\; padding: 0px\; border: 0px\; outline: 0px\; font-size: 17.33333396911621px\; font-family: &quot\;Roboto Condensed&quot\;\; vertical-align: baseline\; text-decoration: none\; cursor: pointer\; color: rgb(54\, 88\, 153)\;" target="_blank" white-space:="">https://www.ianjonesmusic.com/</a><br style="box-sizing: border-box\; -webkit-font-smoothing: subpixel-antialiased\; font-family: &quot\;Roboto Condensed&quot\;\; font-size: 17.33333396911621px\; caret-color: rgb(29\, 33\, 41)\; color: rgb(29\, 33\, 41)\;" white-space:="" />\n<a href="https://www.facebook.com/ianjonesseattle/" style="box-sizing: border-box\; -webkit-font-smoothing: subpixel-antialiased\; margin: 0px\; padding: 0px\; border: 0px\; outline: 0px\; font-size: 17.33333396911621px\; font-family: &quot\;Roboto Condensed&quot\;\; vertical-align: baseline\; text-decoration: none\; cursor: pointer\; color: rgb(54\, 88\, 153)\;" target="_blank" white-space:="">https://www.facebook.com/ianjonesseattle/</a><br style="box-sizing: border-box\; -webkit-font-smoothing: subpixel-antialiased\; font-family: &quot\;Roboto Condensed&quot\;\; font-size: 17.33333396911621px\; caret-color: rgb(29\, 33\, 41)\; color: rgb(29\, 33\, 41)\;" white-space:="" />\n<a data-lynx-mode="hover" href="https://l.facebook.com/l.php?u=https%3A%2F%2Fsoundcloud.com%2Fian-jones-47%3Ffbclid%3DIwAR0Zy6F4q1Z3KSf-9L-Q07S3YAtJsElRk8nBBP2UdnHT_-bU_VtMee97dm0&amp\;h=AT2jdFJiO9-W2ZQyelUDf_bJdqPml-4EoqbCuEerZ1djfer1zroTmzVgVdeCYyXGGYX3jAtK_EfM0CtTOZ8PbyDqF-i2a1zqe8a9cKEh3en-dRs3uh98nA-PxcDR7B8UYlb3J9-qdw" rel="nofollow noopener" style="box-sizing: border-box\; -webkit-font-smoothing: subpixel-antialiased\; margin: 0px\; padding: 0px\; border: 0px\; outline: 0px\; font-size: 17.33333396911621px\; font-family: &quot\;Roboto Condensed&quot\;\; vertical-align: baseline\; text-decoration: none\; cursor: pointer\; color: rgb(54\, 88\, 153)\;" target="_blank" white-space:="">https://soundcloud.com/ian-jones-47</a><span style="caret-color: rgb(20\, 20\, 20)\; color: rgb(20\, 20\, 20)\; font-family: &quot\;Roboto Condensed&quot\;\; font-size: 17.33333396911621px\; background-color: rgb(255\, 255\, 255)\;">&nbsp\;</span>
LOCATION:Mount Olympus Brewing Aberdeen\, WA
UID:e.26.11641
SEQUENCE:3
DTSTAMP:20260424T194325Z
URL:https://chamber.graysharbor.org/events/details/ian-jones-at-mount-olympus-11641
END:VEVENT

END:VCALENDAR
