BEGIN:VCALENDAR
VERSION:2.0
PRODID:-//ChamberMaster//Event Calendar 2.0//EN
METHOD:PUBLISH
X-PUBLISHED-TTL:P3D
REFRESH-INTERVAL:P3D
CALSCALE:GREGORIAN
BEGIN:VEVENT
DTSTART:20191213T000000Z
DTEND:20191213T010000Z
X-MICROSOFT-CDO-ALLDAYEVENT:FALSE
SUMMARY:Ideal Option Ribbon Cutting
DESCRIPTION:The GGHI Ambassadors will be providing a ribbon cutting for Ideal Option on Thursday\, December 12th at 4pm. They're located at 1104 Basich Blvd. in Aberdeen. This is also their open house\, so refreshments will be provided.\n\n\n\nAbout Ideal Option: Their office in Aberdeen provides treatment with medications like Suboxone  and Vivitrol  for addiction to opioids and other substances in a setting just like a primary care clinic. The staff at Ideal Option Aberdeen are passionate about patient care and dedicated to addiction medicine. \n\n \n\nWe hope to see you there!
X-ALT-DESC;FMTTYPE=text/html:<span style="font-size:14px\;">The GGHI Ambassadors will be providing a ribbon cutting for Ideal Option on Thursday\, December 12<sup>th</sup>&nbsp\;at 4pm. They&#39\;re located at 1104 Basich Blvd. in Aberdeen. This is also their open house\, so refreshments will be provided.<br />\n<br />\nAbout Ideal Option: <span style="font-family:arial\;">Their&nbsp\;<span style="letter-spacing: 0.15007999539375305px\;">office in Aberdeen provides treatment with medications like Suboxone&reg\; and Vivitrol&reg\; for addiction to opioids and other substances in a setting just like a primary care clinic. The staff at Ideal Option Aberdeen are passionate about patient care and dedicated to addiction medicine.&nbsp\;</span></span><br />\n&nbsp\;<br />\nWe hope to see you there!</span>
LOCATION:1104 Basich Blvd. Aberdeen\, WA
UID:e.26.12311
SEQUENCE:3
DTSTAMP:20260424T025102Z
URL:https://chamber.graysharbor.org/events/details/ideal-option-ribbon-cutting-12311
END:VEVENT

END:VCALENDAR
