BEGIN:VCALENDAR
VERSION:2.0
PRODID:-//ChamberMaster//Event Calendar 2.0//EN
METHOD:PUBLISH
X-PUBLISHED-TTL:P3D
REFRESH-INTERVAL:P3D
CALSCALE:GREGORIAN
BEGIN:VEVENT
DTSTART:20171115T013000Z
DTEND:20171115T030000Z
X-MICROSOFT-CDO-ALLDAYEVENT:FALSE
SUMMARY:IEP Essentials
DESCRIPTION:Important tips on preparing an IEP (Individual Education Plan) for students with IEP's transitioning from school to adult life
X-ALT-DESC;FMTTYPE=text/html:Important tips on preparing an IEP (Individual Education Plan) for students with IEP&#39\;s transitioning from school to adult life
LOCATION:The Arc of Grays Harbor 523 W 1st st. Unit #1 Aberdeen
UID:e.26.8334
SEQUENCE:3
DTSTAMP:20260425T180943Z
URL:https://chamber.graysharbor.org/events/details/iep-essentials-8334
END:VEVENT

END:VCALENDAR
