BEGIN:VCALENDAR
VERSION:2.0
PRODID:-//ChamberMaster//Event Calendar 2.0//EN
METHOD:PUBLISH
X-PUBLISHED-TTL:P3D
REFRESH-INTERVAL:P3D
CALSCALE:GREGORIAN
BEGIN:VEVENT
DTSTART:20200202T050000Z
DTEND:20200202T230000Z
X-MICROSOFT-CDO-ALLDAYEVENT:FALSE
SUMMARY:Indoor Swap Meet
DESCRIPTION:Indoor Swap Meet at the Grays Harbor County Fairgrounds\n\nBrowse through bargains ranging from antiques to household goods and other hidden treasures. Saturday hours are 9am to 4pm\, and Sunday 10am to 3pm. There are roughly 50 vendors each month.
X-ALT-DESC;FMTTYPE=text/html:<span style="font-size:14px\;"><span style="font-family:arial\;"><span style="caret-color: rgb(49\, 49\, 49)\; color: rgb(49\, 49\, 49)\; background-color: rgba(255\, 255\, 255\, 0.901961)\;"><strong>Indoor Swap Meet at the Grays Harbor County Fairgrounds</strong><br />\nBrowse through bargains ranging from antiques to household goods and other hidden treasures. Saturday hours are 9am to 4pm\, and Sunday 10am to 3pm. </span><span style="caret-color: rgb(34\, 34\, 34)\; color: rgb(34\, 34\, 34)\;">There are roughly 50 vendors each month.</span></span></span>
LOCATION:Grays Harbor County Fairgrounds 32 Elma McCleary Rd Elma\, WA
UID:e.26.12372
SEQUENCE:3
DTSTAMP:20260424T041916Z
URL:https://chamber.graysharbor.org/events/details/indoor-swap-meet-12372
END:VEVENT

END:VCALENDAR
