BEGIN:VCALENDAR
VERSION:2.0
PRODID:-//ChamberMaster//Event Calendar 2.0//EN
METHOD:PUBLISH
X-PUBLISHED-TTL:P3D
REFRESH-INTERVAL:P3D
CALSCALE:GREGORIAN
BEGIN:VEVENT
DTSTART:20180825T010000Z
DTEND:20180826T030000Z
X-MICROSOFT-CDO-ALLDAYEVENT:FALSE
SUMMARY:Instagram Class for Small Businesses
DESCRIPTION:Are you a small business owner? Do you KNOW you should be utilizing instagram for your business but are afraid to start? Do you have an instagram and feel stuck and unable to grow your audience and generate income? This class is for you! Learn how to grow and engage your audience\, drive traffic to your website\, and create a profile that's personal and informative. This class will be 2 hours long and occurring on Friday\, August 24th at 6pm and Saturday\, August 25th at 6pm. Cost is $25. Location will be at Tinderbox Coffee Roasters in Aberdeen\, WA. Bring a notebook! If you'd like to have your instagram critiqued in class\, please email me your profile: junipertreephoto@gmail.com There is limited space in these two classes - only 11 per slot to keep things community oriented and personal. If spaces fill\, another class will be scheduled to include more people. Email or call for further questions!
X-ALT-DESC;FMTTYPE=text/html:Are you a small business owner? Do you KNOW you should be utilizing instagram for your business but are afraid to start? Do you have an instagram and feel stuck and unable to grow your audience and generate income? This class is for you! Learn how to grow and engage your audience\, drive traffic to your website\, and create a profile that&rsquo\;s personal and informative. This class will be 2 hours long and occurring on Friday\, August 24th at 6pm and Saturday\, August 25th at 6pm. Cost is $25. Location will be at Tinderbox Coffee Roasters in Aberdeen\, WA. Bring a notebook! If you&rsquo\;d like to have your instagram critiqued in class\, please email me your profile: junipertreephoto@gmail.com There is limited space in these two classes - only 11 per slot to keep things community oriented and personal. If spaces fill\, another class will be scheduled to include more people. Email or call for further questions!
LOCATION:Tinderbox Coffee Roasters Aberdeen
UID:e.26.11099
SEQUENCE:3
DTSTAMP:20260425T032841Z
URL:https://chamber.graysharbor.org/events/details/instagram-class-for-small-businesses-11099
END:VEVENT

END:VCALENDAR
