BEGIN:VCALENDAR
VERSION:2.0
PRODID:-//ChamberMaster//Event Calendar 2.0//EN
METHOD:PUBLISH
X-PUBLISHED-TTL:P3D
REFRESH-INTERVAL:P3D
CALSCALE:GREGORIAN
BEGIN:VEVENT
DTSTART:20190413T010000Z
DTEND:20190413T030000Z
X-MICROSOFT-CDO-ALLDAYEVENT:FALSE
SUMMARY:Introduction to Natural Farming
DESCRIPTION:Come join us for a 2 hour introduction to the world of Natural Farming. Many topics will be covered. All solutions are homemade\, mostly from unwanted non-poisonous plants on your property. Yes\, dandelions become fertilizer in only 7 days! You will leave the workshop knowing how to make and use a couple of the easiest to make natural farming solutions. One gallon of each solution is enough to fertilize three acres for an entire growing season. The cost to make one gallon of most of the solutions is less than ten dollars. 100% Organic Certifiable\, by the WSDA. You will want to bring a notepad.
X-ALT-DESC;FMTTYPE=text/html:Come join us for a 2 hour introduction to the world of Natural Farming. Many topics will be covered. All solutions are homemade\, mostly from unwanted non-poisonous plants on your property. Yes\, dandelions become fertilizer in only 7 days! You will leave the workshop knowing how to make and use a couple of the easiest to make natural farming solutions. One gallon of each solution is enough to fertilize three acres for an entire growing season. The cost to make one gallon of most of the solutions is less than ten dollars. 100% Organic Certifiable\, by the WSDA. You will want to bring a notepad.
LOCATION:Public Meeting Room Hoquiam Timberland Library 420 7th St Hoquiam\, WA 98550
UID:e.26.11876
SEQUENCE:3
DTSTAMP:20260424T153218Z
URL:https://chamber.graysharbor.org/events/details/introduction-to-natural-farming-11876
END:VEVENT

END:VCALENDAR
