BEGIN:VCALENDAR
VERSION:2.0
PRODID:-//ChamberMaster//Event Calendar 2.0//EN
METHOD:PUBLISH
X-PUBLISHED-TTL:P3D
REFRESH-INTERVAL:P3D
CALSCALE:GREGORIAN
BEGIN:VEVENT
DTSTART:20200303T230000Z
DTEND:20200304T000000Z
X-MICROSOFT-CDO-ALLDAYEVENT:FALSE
SUMMARY:Introduction to the Census
DESCRIPTION:Once every ten years the Census takes a snapshot of who we are. The data collected helps determine how many representatives we have in Congress\, where roads\, bridges\, and other infrastructure are built\, and how much federal money our communities receive. It's crucial that everyone is counted once and in the right place. If you're interested in learning how you or your organization can be part of this effort\, join us for this training. We'll look at the history of the Census\, how it has changed over the years\, and how it affects our lives today. We can't wait to see you there!
X-ALT-DESC;FMTTYPE=text/html:Once every ten years the Census takes a snapshot of who we are. The data collected helps determine how many representatives we have in Congress\, where roads\, bridges\, and other infrastructure are built\, and how much federal money our communities receive. It&#39\;s crucial that everyone is counted once and in the right place. If you&#39\;re interested in learning how you or your organization can be part of this effort\, join us for this training. We&#39\;ll look at the history of the Census\, how it has changed over the years\, and how it affects our lives today. We can&#39\;t wait to see you there!
LOCATION:Aberdeen Timberland Library Rosalie N. Spellman Meeting Room 121 E. Market Street Aberdeen\, WA 98520
UID:e.26.12415
SEQUENCE:3
DTSTAMP:20260424T055829Z
URL:https://chamber.graysharbor.org/events/details/introduction-to-the-census-12415
END:VEVENT

END:VCALENDAR
