BEGIN:VCALENDAR
VERSION:2.0
PRODID:-//ChamberMaster//Event Calendar 2.0//EN
METHOD:PUBLISH
X-PUBLISHED-TTL:P3D
REFRESH-INTERVAL:P3D
CALSCALE:GREGORIAN
BEGIN:VEVENT
DTSTART;VALUE=DATE:20171024
DTEND;VALUE=DATE:20171030
TRANSP:TRANSPARENT
X-MICROSOFT-CDO-ALLDAYEVENT:TRUE
SUMMARY:Irish Music Festival
DESCRIPTION:Pacific Northwest's Largest Irish Pub
X-ALT-DESC;FMTTYPE=text/html:Pacific Northwest&#39\;s Largest Irish Pub
LOCATION:880 Point Brown Avenue NE Ocean Shores\, WA USA
UID:e.26.7640
SEQUENCE:3
DTSTAMP:20260425T213536Z
URL:https://chamber.graysharbor.org/events/details/irish-music-festival-7640
END:VEVENT

END:VCALENDAR
