BEGIN:VCALENDAR
VERSION:2.0
PRODID:-//ChamberMaster//Event Calendar 2.0//EN
METHOD:PUBLISH
X-PUBLISHED-TTL:P3D
REFRESH-INTERVAL:P3D
CALSCALE:GREGORIAN
BEGIN:VEVENT
DTSTART:20190617T170000Z
DTEND:20190617T230000Z
X-MICROSOFT-CDO-ALLDAYEVENT:FALSE
SUMMARY:Iron Wing Coffeehouse GRAND OPENING
DESCRIPTION:Iron Wing Coffeehouse opened it's doors to the public on May 13th. We have felt out their first month with a soft open and now we are ready for a grand opening- ribbon cutting and all! We are so thankful for the support that the community has shown us already and we are excited to make the Coffeehouse official!
X-ALT-DESC;FMTTYPE=text/html:Iron Wing Coffeehouse opened it&#39\;s doors to the public on May 13th. We have felt out their first month with a soft open and now we are ready for a grand opening- ribbon cutting and all! We are so thankful for the support that the community has shown us already and we are excited to make the Coffeehouse official!
LOCATION:Iron Wing Coffeehouse 1101 1st St. Cosmopolis WA 98537
UID:e.26.12049
SEQUENCE:3
DTSTAMP:20260424T120205Z
URL:https://chamber.graysharbor.org/events/details/iron-wing-coffeehouse-grand-opening-12049
END:VEVENT

END:VCALENDAR
