BEGIN:VCALENDAR
VERSION:2.0
PRODID:-//ChamberMaster//Event Calendar 2.0//EN
METHOD:PUBLISH
X-PUBLISHED-TTL:P3D
REFRESH-INTERVAL:P3D
CALSCALE:GREGORIAN
BEGIN:VEVENT
DTSTART:20190617T170000Z
DTEND:20190617T180000Z
X-MICROSOFT-CDO-ALLDAYEVENT:FALSE
SUMMARY:Iron Wing Coffeehouse Ribbon Cutting
DESCRIPTION:GGHI will be having a ribbon cutting for Iron Wing Coffeehouse on Monday\, June 17th at 10:00 am! They are located at 1101 1st St. in Cosmopolis.\n\n \n\nCome check out this brand new cozy\, inviting shop for breakfast\, lunch and some specialty coffee!
X-ALT-DESC;FMTTYPE=text/html:<span style="font-size:14px\;">GGHI will be having a ribbon cutting for Iron Wing Coffeehouse on Monday\, June 17<sup>th</sup>&nbsp\;at 10:00 am! They are located at 1101 1<sup>st</sup>&nbsp\;St. in Cosmopolis.<br />\n&nbsp\;<br />\nCome check out this brand new cozy\, inviting shop for breakfast\, lunch and some specialty coffee!</span>
LOCATION:1101 1st St. Cosmopolis\, WA
UID:e.26.12048
SEQUENCE:3
DTSTAMP:20260424T120048Z
URL:https://chamber.graysharbor.org/events/details/iron-wing-coffeehouse-ribbon-cutting-12048
END:VEVENT

END:VCALENDAR
