BEGIN:VCALENDAR
VERSION:2.0
PRODID:-//ChamberMaster//Event Calendar 2.0//EN
METHOD:PUBLISH
X-PUBLISHED-TTL:P3D
REFRESH-INTERVAL:P3D
CALSCALE:GREGORIAN
BEGIN:VEVENT
DTSTART:20180107T030000Z
DTEND:20180107T040000Z
X-MICROSOFT-CDO-ALLDAYEVENT:FALSE
SUMMARY:Isaac Lornitzo (Big Blue Van) at The Taproom
DESCRIPTION:Isaac Lornitzo (Big Blue Van) will be playing at The Tap Room!
X-ALT-DESC;FMTTYPE=text/html:Isaac Lornitzo (Big Blue Van) will be playing at The Tap Room!
LOCATION:The Tap Room Aberdeen\, WA
UID:e.26.9443
SEQUENCE:3
DTSTAMP:20260425T145928Z
URL:https://chamber.graysharbor.org/events/details/isaac-lornitzo-big-blue-van-at-the-taproom-9443
END:VEVENT

END:VCALENDAR
