BEGIN:VCALENDAR
VERSION:2.0
PRODID:-//ChamberMaster//Event Calendar 2.0//EN
METHOD:PUBLISH
X-PUBLISHED-TTL:P3D
REFRESH-INTERVAL:P3D
CALSCALE:GREGORIAN
BEGIN:VEVENT
DTSTART:20190708T190000Z
DTEND:20190708T200000Z
X-MICROSOFT-CDO-ALLDAYEVENT:FALSE
SUMMARY:J's Farm Stand Ribbon Cutting
DESCRIPTION:Greater Grays Harbor will be hosting a ribbon cutting for J's Farm Stand to kick off the week! Join us on Monday\, July 8th at noon at their farm stand location at 307 E Heron St. in Aberdeen.\n\n \n\nCome out and give the new owner a very warm welcome to the community!
X-ALT-DESC;FMTTYPE=text/html:Greater Grays Harbor will be hosting a ribbon cutting for J&rsquo\;s Farm Stand to kick off the week! Join us on Monday\, July 8<sup>th</sup>&nbsp\;at noon at their farm stand location at 307 E Heron St. in Aberdeen.<br />\n&nbsp\;<br />\nCome out and give the new owner a very warm welcome to the community!
LOCATION:J's Farm Stand 307 E Heron St. Aberdeen WA
UID:e.26.12087
SEQUENCE:3
DTSTAMP:20260424T104330Z
URL:https://chamber.graysharbor.org/events/details/j-s-farm-stand-ribbon-cutting-12087
END:VEVENT

END:VCALENDAR
