BEGIN:VCALENDAR
VERSION:2.0
PRODID:-//ChamberMaster//Event Calendar 2.0//EN
METHOD:PUBLISH
X-PUBLISHED-TTL:P3D
REFRESH-INTERVAL:P3D
CALSCALE:GREGORIAN
BEGIN:VEVENT
DTSTART:20180106T010000Z
DTEND:20180106T040000Z
X-MICROSOFT-CDO-ALLDAYEVENT:FALSE
SUMMARY:January First Friday Art Walk
DESCRIPTION:anuary First Friday Art Walk features live music\, artist demonstrations\, door prizes\, snacks and great art & people. Come and hang out with us... It's free.
X-ALT-DESC;FMTTYPE=text/html:<span style="color: rgb(75\, 79\, 86)\; font-family: Helvetica\, Arial\, sans-serif\; font-size: 14px\; background-color: rgb(255\, 255\, 255)\;">anuary First Friday Art Walk features live music\, artist demonstrations\, door prizes\, snacks and great art &amp\; people. Come and hang out with us... It&#39\;s free.</span>
LOCATION:Aberdeen Art Center 200 W Market Aberdeen\, WA
UID:e.26.9408
SEQUENCE:3
DTSTAMP:20260425T145448Z
URL:https://chamber.graysharbor.org/events/details/january-first-friday-art-walk-9408
END:VEVENT

END:VCALENDAR
