BEGIN:VCALENDAR
VERSION:2.0
PRODID:-//ChamberMaster//Event Calendar 2.0//EN
METHOD:PUBLISH
X-PUBLISHED-TTL:P3D
REFRESH-INTERVAL:P3D
CALSCALE:GREGORIAN
BEGIN:VEVENT
DTSTART:20190614T020000Z
DTEND:20190614T053000Z
X-MICROSOFT-CDO-ALLDAYEVENT:FALSE
SUMMARY:Jazz
DESCRIPTION:GHC's Jazz Band\, directed by Dr. William Dyer and Jazz Choir\, directed by JR Lakey.
X-ALT-DESC;FMTTYPE=text/html:GHC&#39\;s Jazz Band\, directed by Dr. William Dyer and Jazz Choir\, directed by JR Lakey.
LOCATION:1620 Edward P Smith Dr Aberdeen\, Washington
UID:e.26.11985
SEQUENCE:3
DTSTAMP:20260424T120601Z
URL:https://chamber.graysharbor.org/events/details/jazz-06-13-2019-11985
END:VEVENT

END:VCALENDAR
