BEGIN:VCALENDAR
VERSION:2.0
PRODID:-//ChamberMaster//Event Calendar 2.0//EN
METHOD:PUBLISH
X-PUBLISHED-TTL:P3D
REFRESH-INTERVAL:P3D
CALSCALE:GREGORIAN
BEGIN:VEVENT
DTSTART:20190315T020000Z
DTEND:20190315T060000Z
X-MICROSOFT-CDO-ALLDAYEVENT:FALSE
SUMMARY:Jazz
DESCRIPTION:Performances by GHC's Jazz Band\, directed by Dr. William Dyer and Jazz Choir\, directed by JR Lakey.
X-ALT-DESC;FMTTYPE=text/html:Performances by GHC&#39\;s Jazz Band\, directed by Dr. William Dyer and Jazz Choir\, directed by JR Lakey.
LOCATION:Bishop Center for Performing Arts 1620 Edward P Smith Dr\, Aberdeen\, Washington 98520
UID:e.26.11678
SEQUENCE:3
DTSTAMP:20260424T163127Z
URL:https://chamber.graysharbor.org/events/details/jazz-11678
END:VEVENT

END:VCALENDAR
