BEGIN:VCALENDAR
VERSION:2.0
PRODID:-//ChamberMaster//Event Calendar 2.0//EN
METHOD:PUBLISH
X-PUBLISHED-TTL:P3D
REFRESH-INTERVAL:P3D
CALSCALE:GREGORIAN
BEGIN:VEVENT
DTSTART;VALUE=DATE:20190117
DTEND;VALUE=DATE:20190118
TRANSP:TRANSPARENT
X-MICROSOFT-CDO-ALLDAYEVENT:TRUE
SUMMARY:Jazz Festival
DESCRIPTION:The 3rd Annual Jazz Festival is an all day event hosted by GHC\, for local Junior High\, High School and Grays Harbor College musicians.
X-ALT-DESC;FMTTYPE=text/html:The 3rd Annual Jazz Festival is an all day event hosted by GHC\, for local Junior High\, High School and Grays Harbor College musicians.
LOCATION:Bishop Center for Performing Arts 1620 Edward P Smith Dr\, Aberdeen\, Washington 98520
UID:e.26.11680
SEQUENCE:3
DTSTAMP:20260424T194324Z
URL:https://chamber.graysharbor.org/events/details/jazz-festival-11680
END:VEVENT

END:VCALENDAR
