BEGIN:VCALENDAR
VERSION:2.0
PRODID:-//ChamberMaster//Event Calendar 2.0//EN
METHOD:PUBLISH
X-PUBLISHED-TTL:P3D
REFRESH-INTERVAL:P3D
CALSCALE:GREGORIAN
BEGIN:VEVENT
DTSTART:20190703T210000Z
DTEND:20190703T220000Z
X-MICROSOFT-CDO-ALLDAYEVENT:FALSE
SUMMARY:Jeff Evans Magic Show
DESCRIPTION:For Children and Families:\n\n\n\nEvery book is a magic book when you read it! Jeff Evans' magic show celebrates the fun things that happen when you open a book. This event is part of the Summer Library Program\, a Timberland Regional Library district-wide program.
X-ALT-DESC;FMTTYPE=text/html:<span style="caret-color: rgb(29\, 33\, 41)\; color: rgb(29\, 33\, 41)\; font-family: system-ui\, -apple-system\, BlinkMacSystemFont\, &quot\;.SFNSText-Regular&quot\;\, sans-serif\; font-size: 14px\; white-space: pre-wrap\;">For Children and Families:</span><br style="caret-color: rgb(29\, 33\, 41)\; color: rgb(29\, 33\, 41)\; font-family: system-ui\, -apple-system\, BlinkMacSystemFont\, &quot\;.SFNSText-Regular&quot\;\, sans-serif\; font-size: 14px\; white-space: pre-wrap\;" />\n<br style="caret-color: rgb(29\, 33\, 41)\; color: rgb(29\, 33\, 41)\; font-family: system-ui\, -apple-system\, BlinkMacSystemFont\, &quot\;.SFNSText-Regular&quot\;\, sans-serif\; font-size: 14px\; white-space: pre-wrap\;" />\n<span style="caret-color: rgb(29\, 33\, 41)\; color: rgb(29\, 33\, 41)\; font-family: system-ui\, -apple-system\, BlinkMacSystemFont\, &quot\;.SFNSText-Regular&quot\;\, sans-serif\; font-size: 14px\; white-space: pre-wrap\;">Every book is a magic book when you read it! Jeff Evans&rsquo\; magic show celebrates the fun things that happen when you open a book. This event is part of the Summer Library Program\, a Timberland Regional Library district-wide program.</span>
LOCATION:pin Hoquiam Timberland Library 420 7th St\, Hoquiam\, Washington 98550
UID:e.26.12004
SEQUENCE:3
DTSTAMP:20260424T114846Z
URL:https://chamber.graysharbor.org/events/details/jeff-evans-magic-show-12004
END:VEVENT

END:VCALENDAR
