BEGIN:VCALENDAR
VERSION:2.0
PRODID:-//ChamberMaster//Event Calendar 2.0//EN
METHOD:PUBLISH
X-PUBLISHED-TTL:P3D
REFRESH-INTERVAL:P3D
CALSCALE:GREGORIAN
BEGIN:VEVENT
DTSTART:20171027T020000Z
DTEND:20171027T050000Z
X-MICROSOFT-CDO-ALLDAYEVENT:FALSE
SUMMARY:Jeremy Kittel Trio / Bishop Center
DESCRIPTION:Fiddler\, violinist\, composer\, Jeremy Kittel plays original music from traditional roots\, jazz\, Celtic\, classical\, electronic and much more. The Trio performed on "A Prairie Home Companion" and now on the Bishop Center stage. Tickets are now available at ghc.edu/bishop
X-ALT-DESC;FMTTYPE=text/html:Fiddler\, violinist\, composer\, Jeremy Kittel plays original music from traditional roots\, jazz\, Celtic\, classical\, electronic and much more. The Trio performed on &ldquo\;A Prairie Home Companion&rdquo\; and now on the Bishop Center stage. Tickets are now available at ghc.edu/bishop
LOCATION:Grays Harbor College Bishop Center for Performing Arts 1620 Edward P. Smith Drive Aberdeen WA 98520
UID:e.26.8255
SEQUENCE:3
DTSTAMP:20260425T213536Z
URL:https://chamber.graysharbor.org/events/details/jeremy-kittel-trio-bishop-center-8255
END:VEVENT

END:VCALENDAR
