BEGIN:VCALENDAR
VERSION:2.0
PRODID:-//ChamberMaster//Event Calendar 2.0//EN
METHOD:PUBLISH
X-PUBLISHED-TTL:P3D
REFRESH-INTERVAL:P3D
CALSCALE:GREGORIAN
BEGIN:VEVENT
DTSTART:20190824T030000Z
DTEND:20190824T050000Z
X-MICROSOFT-CDO-ALLDAYEVENT:FALSE
SUMMARY:Jime Ray Z - Friday Night Music
DESCRIPTION:The local musician\, Jime Ray Z\, will be rocking Mount Olympus' taproom from 8-10pm on Friday\, 8/23! Come out and have a great evening at this downtown Aberdeen brewing company.
X-ALT-DESC;FMTTYPE=text/html:<span style="font-family:arial\;">The local musician\,&nbsp\;<span style="caret-color: rgb(29\, 33\, 41)\; color: rgb(29\, 33\, 41)\; white-space: pre-wrap\; background-color: rgb(255\, 255\, 255)\;">Jime Ray Z\, will be rocking Mount Olympus&#39\; taproom from 8-10pm on Friday\, 8/23! Come out and have a great evening at this downtown Aberdeen brewing company. </span></span>
LOCATION:pin Mount Olympus Brewing Company 105 W HERON ST\, Aberdeen\, Washington 98520
UID:e.26.12159
SEQUENCE:3
DTSTAMP:20260424T104345Z
URL:https://chamber.graysharbor.org/events/details/jime-ray-z-friday-night-music-12159
END:VEVENT

END:VCALENDAR
