BEGIN:VCALENDAR
VERSION:2.0
PRODID:-//ChamberMaster//Event Calendar 2.0//EN
METHOD:PUBLISH
X-PUBLISHED-TTL:P3D
REFRESH-INTERVAL:P3D
CALSCALE:GREGORIAN
BEGIN:VEVENT
DTSTART:20181019T003000Z
DTEND:20181019T033000Z
X-MICROSOFT-CDO-ALLDAYEVENT:FALSE
SUMMARY:John Tornow Lecture
DESCRIPTION:A few weeks ago I teased here about exciting news for me involving Grays Harbor College and John Tornow story. Well\, here it is. I'll be giving a lecture on the Northwest legend\, talking about my book: "John Tornow\; Village or Victim?" answering questions and signing books. It is scheduled for 3 hours\, at the college on Thursday\, Oct. 18. More details to follow. Here is the direct link for students to register: https://www.campusce.net/ghc/course/course.aspx \n\n\n\nStudents can also call: 360.538.4088 or 360.538.4267 to register over the phone.\n\n\n\nDate: Oct 18th\, 5:30pm-8:30pm
X-ALT-DESC;FMTTYPE=text/html:<span style="color: rgb(29\, 33\, 41)\; font-family: Helvetica\, Arial\, sans-serif\; font-size: 14px\; background-color: rgb(255\, 255\, 255)\;">A few weeks ago I teased here about exciting news for me involving Grays Harbor College and John Tornow story. Well\, here it is. I&#39\;ll be giving a lecture on the Northwest legend\, talking about my book: &quot\;John Tornow\; Village or Victim?&quot\; answering questions and signing books. It is scheduled for 3 hours\, at the college on Thursday\, Oct. 18. More details to follow. Here is the direct link for students to register:&nbsp\;</span><a data-lynx-mode="hover" data-lynx-uri="https://l.facebook.com/l.php?u=https%3A%2F%2Fwww.campusce.net%2Fghc%2Fcourse%2Fcourse.aspx&amp\;h=AT2jWHINHaUfqE-L_hngYNzl-JXmh59RpvADuaJD3FhFZEIiQzgvjrHLw5uJ2NQY97XfSYmU6dbBgm7Wp1GVGRR9K02Z7lJxHzJbqG1QCS0NnC6Zd6F1U4_NyMqgJ6vSdSbFqg76EGdpsJFvsyY" href="https://www.campusce.net/ghc/course/course.aspx" rel="nofollow noopener" style="color: rgb(54\, 88\, 153)\; cursor: pointer\; text-decoration-line: none\; font-family: Helvetica\, Arial\, sans-serif\; font-size: 14px\; background-color: rgb(255\, 255\, 255)\;" target="_blank">https://www.campusce.net/ghc/course/course.aspx</a><span style="color: rgb(29\, 33\, 41)\; font-family: Helvetica\, Arial\, sans-serif\; font-size: 14px\; background-color: rgb(255\, 255\, 255)\;">&hellip\;</span><br style="color: rgb(29\, 33\, 41)\; font-family: Helvetica\, Arial\, sans-serif\; font-size: 14px\; background-color: rgb(255\, 255\, 255)\;" />\n<br style="color: rgb(29\, 33\, 41)\; font-family: Helvetica\, Arial\, sans-serif\; font-size: 14px\; background-color: rgb(255\, 255\, 255)\;" />\n<span style="color: rgb(29\, 33\, 41)\; font-family: Helvetica\, Arial\, sans-serif\; font-size: 14px\; background-color: rgb(255\, 255\, 255)\;">Students can also call: 360.538.4088 or 360.538.4267 to register over the phone.</span><br style="color: rgb(29\, 33\, 41)\; font-family: Helvetica\, Arial\, sans-serif\; font-size: 14px\; background-color: rgb(255\, 255\, 255)\;" />\n<br style="color: rgb(29\, 33\, 41)\; font-family: Helvetica\, Arial\, sans-serif\; font-size: 14px\; background-color: rgb(255\, 255\, 255)\;" />\n<span style="color: rgb(29\, 33\, 41)\; font-family: Helvetica\, Arial\, sans-serif\; font-size: 14px\; background-color: rgb(255\, 255\, 255)\;">Date: Oct 18th\, 5:30pm-8:30pm</span>
LOCATION:pin Grays Harbor College Community Education 1620 Edward P. Smith Drive\, Aberdeen\, Washington 98520 Room: 4142 (1st floor of the 4000 bldg.)
UID:e.26.11201
SEQUENCE:3
DTSTAMP:20260425T001728Z
URL:https://chamber.graysharbor.org/events/details/john-tornow-lecture-11201
END:VEVENT

END:VCALENDAR
