BEGIN:VCALENDAR
VERSION:2.0
PRODID:-//ChamberMaster//Event Calendar 2.0//EN
METHOD:PUBLISH
X-PUBLISHED-TTL:P3D
REFRESH-INTERVAL:P3D
CALSCALE:GREGORIAN
BEGIN:VEVENT
DTSTART;VALUE=DATE:20190518
DTEND;VALUE=DATE:20190519
TRANSP:TRANSPARENT
X-MICROSOFT-CDO-ALLDAYEVENT:TRUE
SUMMARY:Jose & Company Comedy Show
DESCRIPTION:Jose & Company Comedy Show\n\nBack by popular demand- Jose Bolanos is at Quinault Beach Resort & Casino!! Known for his crazy stunts and high energy- along with an arsenal of impressions!! Accompanying him will be two hilarious comedians from The NarBar Podcast- Josh Firestine & Narin Vann!! \n\nJoin us for a night of fun and countless laughs!! \n\nJose Bolanos: Stand up comedian & On-Air Radio Personality on Nationally syndicated radio show Brooke & Jubal in the Morning based out of Seattle.\n\nJosh Firestine & Narin Vann: Seattle Comedians - poke fun at pop culture\, politics\, society\, the internet & each other!!\n\nQ Club members- Check in at club desk for a prize!
X-ALT-DESC;FMTTYPE=text/html:<h3 class="serif" style="box-sizing: border-box\; line-height: 1.5\; color: rgb(17\, 17\, 17)\; margin: 0px 0px 5px\; font-size: 30px\; text-align: center\; font-family: &quot\;PT Serif&quot\;\, serif !important\;"><span style="font-size:14px\;"><span style="font-family:arial\;">Jose &amp\; Company Comedy Show</span></span></h3>\n\n<h3 style="box-sizing: border-box\; font-family: &quot\;PT Sans&quot\;\, sans-serif\; line-height: 1.5\; color: rgb(17\, 17\, 17)\; margin: 0px 0px 5px\; font-size: 30px\; text-align: center\;"><span style="font-size:14px\;"><span style="font-family:arial\;"><span style="box-sizing: border-box\; color: rgb(0\, 0\, 0)\;">Back by popular demand- Jose Bolanos is at Quinault Beach Resort &amp\; Casino!! Known for his crazy stunts and high energy- along with an arsenal of impressions!! Accompanying him will be two hilarious comedians from The NarBar Podcast- Josh Firestine &amp\; Narin Vann!!&nbsp\;</span><br style="box-sizing: border-box\;" />\n<span style="box-sizing: border-box\; color: rgb(0\, 0\, 0)\;">Join us for a night of fun and countless laughs!!&nbsp\;</span><br style="box-sizing: border-box\;" />\n<span style="box-sizing: border-box\; color: rgb(0\, 0\, 0)\;"><strong>Jose Bolanos:</strong> Stand up comedian &amp\; On-Air Radio Personality on Nationally syndicated radio show Brooke &amp\; Jubal in the Morning based out of Seattle.</span><br style="box-sizing: border-box\;" />\n<span style="box-sizing: border-box\; color: rgb(0\, 0\, 0)\;"><strong>Josh Firestine &amp\; Narin Vann:</strong>&nbsp\;Seattle Comedians - poke fun at pop culture\, politics\, society\, the internet &amp\; each other!!</span></span></span></h3>\n\n<h3 style="box-sizing: border-box\; font-family: &quot\;PT Sans&quot\;\, sans-serif\; line-height: 1.5\; color: rgb(17\, 17\, 17)\; margin: 0px 0px 5px\; font-size: 30px\; text-align: center\;"><span style="font-size:14px\;"><span style="font-family:arial\;">Q Club members- Check in at club desk for a prize!</span></span></h3>\n
LOCATION:
UID:e.26.11906
SEQUENCE:3
DTSTAMP:20260424T132712Z
URL:https://chamber.graysharbor.org/events/details/jose-company-comedy-show-11906
END:VEVENT

END:VCALENDAR
