BEGIN:VCALENDAR
VERSION:2.0
PRODID:-//ChamberMaster//Event Calendar 2.0//EN
METHOD:PUBLISH
X-PUBLISHED-TTL:P3D
REFRESH-INTERVAL:P3D
CALSCALE:GREGORIAN
BEGIN:VEVENT
DTSTART:20190118T030000Z
DTEND:20190118T063000Z
X-MICROSOFT-CDO-ALLDAYEVENT:FALSE
SUMMARY:JSO Jazz Quintet
DESCRIPTION:Performing at the evening show will be the "Chairman of the Board" Jazz Quintet with five talented musicians from the jazz Society of Oregon.
X-ALT-DESC;FMTTYPE=text/html:Performing at the evening show will be the &quot\;Chairman of the Board&quot\; Jazz Quintet with five talented musicians from the jazz Society of Oregon.
LOCATION:Bishop Center for Performing Arts 1620 Edward P Smith Dr\, Aberdeen\, Washington 98520
UID:e.26.11681
SEQUENCE:3
DTSTAMP:20260424T210516Z
URL:https://chamber.graysharbor.org/events/details/jso-jazz-quintet-11681
END:VEVENT

END:VCALENDAR
