BEGIN:VCALENDAR
VERSION:2.0
PRODID:-//ChamberMaster//Event Calendar 2.0//EN
METHOD:PUBLISH
X-PUBLISHED-TTL:P3D
REFRESH-INTERVAL:P3D
CALSCALE:GREGORIAN
BEGIN:VEVENT
DTSTART;VALUE=DATE:20170902
DTEND;VALUE=DATE:20170904
TRANSP:TRANSPARENT
X-MICROSOFT-CDO-ALLDAYEVENT:TRUE
SUMMARY:Junior Rodeo Finals
DESCRIPTION:The top Junior Rodeo competitors come to Oakville for two days to determine who are the BEST of the BEST riders in multiple events. Concessions and parking on site.
X-ALT-DESC;FMTTYPE=text/html:The top Junior Rodeo competitors come to Oakville for two days to determine who are the BEST of the BEST riders in multiple events. Concessions and parking on site.
LOCATION:Oakville Events Recreational Center - 7000 Hwy 12\, Oakville\, WA (next to High School)
UID:e.26.8167
SEQUENCE:3
DTSTAMP:20260425T212913Z
URL:https://chamber.graysharbor.org/events/details/junior-rodeo-finals-8167
END:VEVENT

END:VCALENDAR
