BEGIN:VCALENDAR
VERSION:2.0
PRODID:-//ChamberMaster//Event Calendar 2.0//EN
METHOD:PUBLISH
X-PUBLISHED-TTL:P3D
REFRESH-INTERVAL:P3D
CALSCALE:GREGORIAN
BEGIN:VEVENT
DTSTART:20190322T220000Z
DTEND:20190322T230000Z
X-MICROSOFT-CDO-ALLDAYEVENT:FALSE
SUMMARY:Juniper Tree LLC Ribbon Cutting
DESCRIPTION:GGHI will be performing a ribbon cutting for Juniper Tree LLC on Friday\, March 22nd at 3pm!\n\nThe location is 1101 1st St Unit B in Cosmopolis.\n\n\n\nJuniper Tree Photography offers joyful family and wedding photography as well as a variety of clothing\, hand-picked with photo sessions in mind. Perfect for the camera or every day\, Juniper Tree Clothing and gifts are sure to add beauty to every occasion.
X-ALT-DESC;FMTTYPE=text/html:<span style="caret-color: rgb(34\, 34\, 34)\;">GGHI will be performing a ribbon cutting for Juniper Tree LLC on Friday\, March 22</span><sup style="caret-color: rgb(34\, 34\, 34)\; color: rgb(34\, 34\, 34)\; font-family: Arial\, Helvetica\, sans-serif\;">nd</sup><span style="caret-color: rgb(34\, 34\, 34)\;">&nbsp\;at 3pm!<br />\nThe location is 1101 1</span><sup style="caret-color: rgb(34\, 34\, 34)\; color: rgb(34\, 34\, 34)\; font-family: Arial\, Helvetica\, sans-serif\;">st</sup><span style="caret-color: rgb(34\, 34\, 34)\;">&nbsp\;St Unit B in Cosmopolis.</span><br />\n<br />\n<span style="font-size: 16px\; caret-color: rgb(104\, 104\, 104)\; font-family: &quot\;SQ Market&quot\;\, Helvetica\, Arial\, &quot\;Hiragino Kaku Gothic Pro&quot\;\, &quot\;&#12498\;&#12521\;&#12462\;&#12494\;&#35282\;&#12468\; Pro W3&quot\;\, &#12513\;&#12452\;&#12522\;&#12458\;\, Meiryo\, &quot\;&#65325\;&#65331\; &#65328\;&#12468\;&#12471\;&#12483\;&#12463\;&quot\;\, sans-serif\; white-space: pre-wrap\;">Juniper Tree Photography offers joyful family and wedding photography as well as a variety of clothing\, hand-picked with photo sessions in mind. Perfect for the camera or every day\, Juniper Tree Clothing and gifts are sure to add beauty to every occasion.</span>
LOCATION:Juniper Tree 1101 1st St Unit B Cosmopolis\, WA
UID:e.26.11819
SEQUENCE:3
DTSTAMP:20260424T163241Z
URL:https://chamber.graysharbor.org/events/details/juniper-tree-llc-ribbon-cutting-11819
END:VEVENT

END:VCALENDAR
