BEGIN:VCALENDAR
VERSION:2.0
PRODID:-//ChamberMaster//Event Calendar 2.0//EN
METHOD:PUBLISH
X-PUBLISHED-TTL:P3D
REFRESH-INTERVAL:P3D
CALSCALE:GREGORIAN
BEGIN:VEVENT
DTSTART:20170930T160000Z
DTEND:20170930T230000Z
X-MICROSOFT-CDO-ALLDAYEVENT:FALSE
SUMMARY:Junk Queens Autumn At the Fairgrounds
DESCRIPTION:Junk Queens Autumn At the Grays Harbor County Fairgrounds Junk Queens Invites you to our special events featuring HAND-PICKED VENDORS showcasing primitives\, antiques\, country collectibles\, steam punk\, vintage\, one of a kinds\, RECYCLED\, REUSED\, AND RE-PURPOSED\, LIVE Music and MORE! General Admission\, 9 AM - 4 PM Purchase Tickets at the Door $5 or $4 with a Non-perishable Food Donation
X-ALT-DESC;FMTTYPE=text/html:Junk Queens Autumn At the Grays Harbor County Fairgrounds Junk Queens Invites you to our special events featuring HAND-PICKED VENDORS showcasing primitives\, antiques\, country collectibles\, steam punk\, vintage\, one of a kinds\, RECYCLED\, REUSED\, AND RE-PURPOSED\, LIVE Music and MORE! General Admission\, 9 AM - 4 PM Purchase Tickets at the Door $5 or $4 with a Non-perishable Food Donation
LOCATION:Grays Harbor County Fairgrounds Pavilion 32 Elma McCleary Rd\, Elma WA 98541
UID:e.26.8165
SEQUENCE:3
DTSTAMP:20260425T230529Z
URL:https://chamber.graysharbor.org/events/details/junk-queens-autumn-at-the-fairgrounds-09-30-2017-8165
END:VEVENT

END:VCALENDAR
