BEGIN:VCALENDAR
VERSION:2.0
PRODID:-//ChamberMaster//Event Calendar 2.0//EN
METHOD:PUBLISH
X-PUBLISHED-TTL:P3D
REFRESH-INTERVAL:P3D
CALSCALE:GREGORIAN
BEGIN:VEVENT
DTSTART;VALUE=DATE:20180928
DTEND;VALUE=DATE:20180930
TRANSP:TRANSPARENT
X-MICROSOFT-CDO-ALLDAYEVENT:TRUE
SUMMARY:Junk Queens Autumn at the Fairgrounds "Pinterest Party"
DESCRIPTION:Junk Queens & Friends Invites you to our special Fall Show at the Grays Harbor County Fairgrounds featuring Hand Picked Vendors with PUMPKINS\, primitives\, antiques\, vintage country collectibles\, Recycled\, Reused\, and Re-purposed Junk\, + PUMPKINS & MORE! This Year we will offer several MAKE & TAKE CLASSES Check out our WEBSITE JunkQueens.Show Check out our WEBSITE for more info.. $5 or Free with a New Back Pack Donation
X-ALT-DESC;FMTTYPE=text/html:Junk Queens &amp\; Friends Invites you to our special Fall Show at the Grays Harbor County Fairgrounds featuring Hand Picked Vendors with PUMPKINS\, primitives\, antiques\, vintage country collectibles\, Recycled\, Reused\, and Re-purposed Junk\, + PUMPKINS &amp\; MORE! This Year we will offer several MAKE &amp\; TAKE CLASSES Check out our WEBSITE JunkQueens.Show Check out our WEBSITE for more info.. $5 or Free with a New Back Pack Donation
LOCATION:Grays Harbor County Fairgrounds
UID:e.26.10681
SEQUENCE:3
DTSTAMP:20260425T015938Z
URL:https://chamber.graysharbor.org/events/details/junk-queens-autumn-at-the-fairgrounds-pinterest-party-10681
END:VEVENT

END:VCALENDAR
