BEGIN:VCALENDAR
VERSION:2.0
PRODID:-//ChamberMaster//Event Calendar 2.0//EN
METHOD:PUBLISH
X-PUBLISHED-TTL:P3D
REFRESH-INTERVAL:P3D
CALSCALE:GREGORIAN
BEGIN:VEVENT
DTSTART:20190927T230000Z
DTEND:20190928T230000Z
X-MICROSOFT-CDO-ALLDAYEVENT:FALSE
SUMMARY:JunkQueens Show Autumn Pinterest Party
DESCRIPTION:JunkQueens.Show Autumn Pinterest Party Elma\, WA September 27th\, 2019 Early Bird 4-8 PM September 28th\, 2019 10 AM - 4 PM Junk Queens & Friends Invites you to our special Fall Show at the Grays Harbor County Fairgrounds featuring Hand Picked Vendors with PUMPKINS\, primitives\, antiques\, vintage country collectibles\, Recycled\, Reused\, and Re-purposed Junk\, + PUMPKINS & MORE! This Year we will offer several MAKE & TAKE CLASSES $5 at the door\, 12 Under free\, or Free with a New Back Pack\, Blanket\, Toy Donation If you're interested in becoming a vendor at our shows\, apply @ JunkQueens.Show Hand-made and vintage items only.
X-ALT-DESC;FMTTYPE=text/html:JunkQueens.Show Autumn Pinterest Party Elma\, WA September 27th\, 2019 Early Bird 4-8 PM September 28th\, 2019 10 AM - 4 PM Junk Queens &amp\; Friends Invites you to our special Fall Show at the Grays Harbor County Fairgrounds featuring Hand Picked Vendors with PUMPKINS\, primitives\, antiques\, vintage country collectibles\, Recycled\, Reused\, and Re-purposed Junk\, + PUMPKINS &amp\; MORE! This Year we will offer several MAKE &amp\; TAKE CLASSES $5 at the door\, 12 Under free\, or Free with a New Back Pack\, Blanket\, Toy Donation If you&#39\;re interested in becoming a vendor at our shows\, apply @ JunkQueens.Show Hand-made and vintage items only.
LOCATION:Grays Harbor County Fairgrounds 32 Elma McCleary Rd Elma\, WA 98520
UID:e.26.12121
SEQUENCE:3
DTSTAMP:20260424T074109Z
URL:https://chamber.graysharbor.org/events/details/junkqueens-show-autumn-pinterest-party-12121
END:VEVENT

END:VCALENDAR
