BEGIN:VCALENDAR
VERSION:2.0
PRODID:-//ChamberMaster//Event Calendar 2.0//EN
METHOD:PUBLISH
X-PUBLISHED-TTL:P3D
REFRESH-INTERVAL:P3D
CALSCALE:GREGORIAN
BEGIN:VEVENT
DTSTART;VALUE=DATE:20170519
DTEND;VALUE=DATE:20170521
TRANSP:TRANSPARENT
X-MICROSOFT-CDO-ALLDAYEVENT:TRUE
SUMMARY:Jurassic Park (1993)
DESCRIPTION:Back to where it all began.\n\nHuge advancements in scientific technology have enabled a mogul to create an island full of living dinosaurs. John Hammond has invited four individuals\, along with his two grandchildren\, to join him at Jurassic Park. But will everything go according to plan? A park employee attempts to steal dinosaur embryos\, critical security systems are shut down and it now becomes a race for survival with dinosaurs roaming freely over the island.\n\n\n\nTickets are available at City\, Crown or Harbor Drug. Tickets are $6 for all ages.\n\n\n\nStarring Laura Dern\, Jeff Goldblum\, and Sam Neill.\n\n\n\nLocally sponsored by Durney Insurance\, Grays Harbor Community College\, Hoquiam Senior Center Board\, Levee Lumber\, Lytle Seafoods\, Nicholas Moir\, Rock Construction\, LLC\, Washingtonian Print/Bookee's Den\, Wunderland Childcare\, Alpha Media Grays Harbor\, and Jodesha Broadcasting.
X-ALT-DESC;FMTTYPE=text/html:<span class="_4n-j _3cht fsl" data-testid="event-permalink-details">Back to where it all began.<br />\nHuge advancements in scientific technology have enabled a mogul to create an island full of living dinosaurs. John Hammond has invited four individuals\, along with his two grandchildren\, to join him at Jurassic Park. But will everything go according to plan? A park employee attempts to steal dinosaur embryos\, critical security systems are shut down and it now becomes a race for survival with dinosaurs roaming freely over the island.<br />\n<br />\nTickets are available at City\, Crown or Harbor Drug. Tickets are $6 for all ages.<br />\n<br />\nStarring Laura Dern\, Jeff Goldblum\, and Sam Neill.<br />\n<br />\nLocally sponsored by Durney Insurance\, Grays Harbor Community College\, Hoquiam Senior Center Board\, Levee Lumber\, Lytle Seafoods\, Nicholas Moir\, Rock Construction\, LLC\, Washingtonian Print/Bookee&rsquo\;s Den\, Wunderland Childcare\, Alpha Media Grays Harbor\, and Jodesha Broadcasting.</span>
LOCATION:7th Street Theatre 313 7th St. Hoquiam\, WA
UID:e.26.7700
SEQUENCE:3
DTSTAMP:20260426T032643Z
URL:https://chamber.graysharbor.org/events/details/jurassic-park-1993-7700
END:VEVENT

END:VCALENDAR
