BEGIN:VCALENDAR
VERSION:2.0
PRODID:-//ChamberMaster//Event Calendar 2.0//EN
METHOD:PUBLISH
X-PUBLISHED-TTL:P3D
REFRESH-INTERVAL:P3D
CALSCALE:GREGORIAN
BEGIN:VEVENT
DTSTART:20190724T190000Z
DTEND:20190724T200000Z
X-MICROSOFT-CDO-ALLDAYEVENT:FALSE
SUMMARY:Kandle & Kauldron Ribbon Cutting
DESCRIPTION:Please join the Greater Grays Harbor Ambassador Team at their next ribbon cutting celebration!  \n\nGGHI will be helping welcome Kandle & Kauldron to the business community on Wednesday\, July 24th at noon. Their storefront is located at 204 E. Wishkah St. in Aberdeen.\n\n\n\nThis business is brand new and very unique to the area. Offering metaphysical and pagan supplies\, Kandle & Kauldron is a gem in downtown Aberdeen. We'd love for you to join us!\n\nPlease contact Derek Schlaht with any questions at dschlaht@graysharbor.org
X-ALT-DESC;FMTTYPE=text/html:<span style="caret-color: rgb(34\, 34\, 34)\; color: rgb(34\, 34\, 34)\; font-family: Arial\, Helvetica\, sans-serif\; font-size: small\;">Please join the Greater Grays Harbor Ambassador Team at their next ribbon cutting celebration! &nbsp\;<br />\nGGHI will be helping welcome Kandle &amp\; Kauldron to the business community on Wednesday\, July 24th at noon. Their storefront is located at 204 E. Wishkah St. in Aberdeen.</span><br style="caret-color: rgb(34\, 34\, 34)\; color: rgb(34\, 34\, 34)\; font-family: Arial\, Helvetica\, sans-serif\;" />\n<br style="caret-color: rgb(34\, 34\, 34)\; color: rgb(34\, 34\, 34)\; font-family: Arial\, Helvetica\, sans-serif\;" />\n<font color="#222222" face="Arial\, Helvetica\, sans-serif" size="2"><span style="caret-color: rgb(34\, 34\, 34)\;">This business is brand new and very unique to the area. Offering metaphysical and pagan supplies\,&nbsp\;Kandle &amp\; Kauldron is a gem in downtown Aberdeen. We&#39\;d love for you to join us!<br />\nPlease&nbsp\;contact Derek Schlaht with any questions at dschlaht@graysharbor.org</span></font>
LOCATION:Kandle & Kauldron 204 E. Wishkah St. Aberdeen\, WA
UID:e.26.12086
SEQUENCE:3
DTSTAMP:20260424T115132Z
URL:https://chamber.graysharbor.org/events/details/kandle-kauldron-ribbon-cutting-12086
END:VEVENT

END:VCALENDAR
