BEGIN:VCALENDAR
VERSION:2.0
PRODID:-//ChamberMaster//Event Calendar 2.0//EN
METHOD:PUBLISH
X-PUBLISHED-TTL:P3D
REFRESH-INTERVAL:P3D
CALSCALE:GREGORIAN
BEGIN:VEVENT
DTSTART:20190310T030000Z
DTEND:20190310T050000Z
X-MICROSOFT-CDO-ALLDAYEVENT:FALSE
SUMMARY:Karaoke Night
DESCRIPTION:How would you like to feel like a rock superstar for 5 minutes?\n\nStart practicing your high kicks. Dust off your air guitar. And join us at Town Hall on Saturday\, March 9 for an entertaining session of Seabrook Karaoke!\n\nThere is just something about belting out some Billy Joel or Michael Jackson with people you barely know that makes you bond in a way other activities can't.\n\nThe k-stage is a place to try on new identities as easily as trying on pants. Karaoke is basically a four-minute social experiment that usually ends with applause.\n\nSo are you ready to get up on stage and show off your inner Tina Turner?\n\nHere are some things to keep in mind:\n\nKaraoke Night will feature a cash bar. A few of your favorite librations will loosen you up and make the lyrics start to flow. Just be aware of one of the laws of karaoke: more drinks means more high kicks and vocal atrocities.\n\nAnother tip: exude confidence. Fake confidence is the key to any great karaoke performance. Use these techniques to generate your fake confidence: choose a song you're really familiar with that you've sung a lot. Think of something you're really good at. Bounce around like a rock superstar to stir up some endorphins and get your blood going. And then have a shot of your favorite drink. Now you're ready.\n\nSee you on stage!
X-ALT-DESC;FMTTYPE=text/html:<p style="font-size: 16px\; box-sizing: border-box\; margin: 0px 0px 1.25em\; padding: 0px\; direction: ltr\; font-family: myriad-pro\, sans-serif\; line-height: 1.45\; text-rendering: optimizeLegibility\; letter-spacing: 0.47999998927116394px\; caret-color: rgb(84\, 102\, 108)\; color: rgb(84\, 102\, 108)\;">How would you like to feel like a rock superstar for 5 minutes?</p>\n\n<p style="font-size: 16px\; box-sizing: border-box\; margin: 0px 0px 1.25em\; padding: 0px\; direction: ltr\; font-family: myriad-pro\, sans-serif\; line-height: 1.45\; text-rendering: optimizeLegibility\; letter-spacing: 0.47999998927116394px\; caret-color: rgb(84\, 102\, 108)\; color: rgb(84\, 102\, 108)\;">Start practicing your high kicks. Dust off your air guitar. And join us at&nbsp\;<strong style="box-sizing: border-box\; line-height: 1.45\;">Town Hall on Saturday\, March 9</strong>&nbsp\;for an entertaining session of Seabrook Karaoke!</p>\n\n<p style="font-size: 16px\; box-sizing: border-box\; margin: 0px 0px 1.25em\; padding: 0px\; direction: ltr\; font-family: myriad-pro\, sans-serif\; line-height: 1.45\; text-rendering: optimizeLegibility\; letter-spacing: 0.47999998927116394px\; caret-color: rgb(84\, 102\, 108)\; color: rgb(84\, 102\, 108)\;">There is just something about belting out some Billy Joel or Michael Jackson with people you barely know that makes you bond in a way other activities can&rsquo\;t.</p>\n\n<p style="font-size: 16px\; box-sizing: border-box\; margin: 0px 0px 1.25em\; padding: 0px\; direction: ltr\; font-family: myriad-pro\, sans-serif\; line-height: 1.45\; text-rendering: optimizeLegibility\; letter-spacing: 0.47999998927116394px\; caret-color: rgb(84\, 102\, 108)\; color: rgb(84\, 102\, 108)\;">The k-stage is a place to try on new identities as easily as trying on pants. Karaoke is basically a four-minute social experiment that usually ends with applause.</p>\n\n<p style="font-size: 16px\; box-sizing: border-box\; margin: 0px 0px 1.25em\; padding: 0px\; direction: ltr\; font-family: myriad-pro\, sans-serif\; line-height: 1.45\; text-rendering: optimizeLegibility\; letter-spacing: 0.47999998927116394px\; caret-color: rgb(84\, 102\, 108)\; color: rgb(84\, 102\, 108)\;">So are you ready to get up on stage and show off your inner Tina Turner?</p>\n\n<p style="font-size: 16px\; box-sizing: border-box\; margin: 0px 0px 1.25em\; padding: 0px\; direction: ltr\; font-family: myriad-pro\, sans-serif\; line-height: 1.45\; text-rendering: optimizeLegibility\; letter-spacing: 0.47999998927116394px\; caret-color: rgb(84\, 102\, 108)\; color: rgb(84\, 102\, 108)\;">Here are some things to keep in mind:</p>\n\n<p style="font-size: 16px\; box-sizing: border-box\; margin: 0px 0px 1.25em\; padding: 0px\; direction: ltr\; font-family: myriad-pro\, sans-serif\; line-height: 1.45\; text-rendering: optimizeLegibility\; letter-spacing: 0.47999998927116394px\; caret-color: rgb(84\, 102\, 108)\; color: rgb(84\, 102\, 108)\;">Karaoke Night will feature a cash bar. A few of your favorite librations will loosen you up and make the lyrics start to flow. Just be aware of one of the laws of karaoke: more drinks means more high kicks and vocal atrocities.</p>\n\n<p style="font-size: 16px\; box-sizing: border-box\; margin: 0px 0px 1.25em\; padding: 0px\; direction: ltr\; font-family: myriad-pro\, sans-serif\; line-height: 1.45\; text-rendering: optimizeLegibility\; letter-spacing: 0.47999998927116394px\; caret-color: rgb(84\, 102\, 108)\; color: rgb(84\, 102\, 108)\;">Another tip: exude confidence. Fake confidence is the key to any great karaoke performance. Use these techniques to generate your fake confidence: choose a song you&rsquo\;re really familiar with that you&rsquo\;ve sung a lot. Think of something you&rsquo\;re really good at. Bounce around like a rock superstar to stir up some endorphins and get your blood going. And then have a shot of your favorite drink. Now you&rsquo\;re ready.</p>\n\n<p style="font-size: 16px\; box-sizing: border-box\; margin: 0px 0px 1.25em\; padding: 0px\; direction: ltr\; font-family: myriad-pro\, sans-serif\; line-height: 1.45\; text-rendering: optimizeLegibility\; letter-spacing: 0.47999998927116394px\; caret-color: rgb(84\, 102\, 108)\; color: rgb(84\, 102\, 108)\;">See you on stage!</p>\n
LOCATION:Town Hall in Seabrook Pacific Beach\, WA
UID:e.26.11625
SEQUENCE:3
DTSTAMP:20260424T163153Z
URL:https://chamber.graysharbor.org/events/details/karaoke-night-11625
END:VEVENT

END:VCALENDAR
