BEGIN:VCALENDAR
VERSION:2.0
PRODID:-//ChamberMaster//Event Calendar 2.0//EN
METHOD:PUBLISH
X-PUBLISHED-TTL:P3D
REFRESH-INTERVAL:P3D
CALSCALE:GREGORIAN
BEGIN:VEVENT
DTSTART:20180214T203000Z
DTEND:20180214T223000Z
X-MICROSOFT-CDO-ALLDAYEVENT:FALSE
SUMMARY:Karaoke with David Reed former band member of The Beachcombers
DESCRIPTION:Join us at the Hoquiam Senior Citizen Center for 2 hours of Karaoke with David Reed. David played Sax and did vocals as a member of the BeachCombers in the 60's. He will be setting up his machine and playing some 50's~60's~70's songs. You are welcome to share the spotlight and do a song or two. Come by early and enjoy a lunch. Lunch is available from Noon to 1 p.m. Come on in and enjoy toe tapping\, sing along\, hand clapping tunes. Bring your sweet Heart or a friend. Lots of parking in the parking lot adjacent to the Emerson Manor. You can also see event info as an event of Facebook.
X-ALT-DESC;FMTTYPE=text/html:Join us at the Hoquiam Senior Citizen Center for 2 hours of Karaoke with David Reed. David played Sax and did vocals as a member of the BeachCombers in the 60&#39\;s. He will be setting up his machine and playing some 50&#39\;s~60&#39\;s~70&#39\;s songs. You are welcome to share the spotlight and do a song or two. Come by early and enjoy a lunch. Lunch is available from Noon to 1 p.m. Come on in and enjoy toe tapping\, sing along\, hand clapping tunes. Bring your sweet Heart or a friend. Lots of parking in the parking lot adjacent to the Emerson Manor. You can also see event info as an event of Facebook.
LOCATION:707 Simpson Ave. Downtown Hoquiam Located in the Emerson Manor Building
UID:e.26.9485
SEQUENCE:3
DTSTAMP:20260425T133342Z
URL:https://chamber.graysharbor.org/events/details/karaoke-with-david-reed-former-band-member-of-the-beachcombers-9485
END:VEVENT

END:VCALENDAR
