BEGIN:VCALENDAR
VERSION:2.0
PRODID:-//ChamberMaster//Event Calendar 2.0//EN
METHOD:PUBLISH
X-PUBLISHED-TTL:P3D
REFRESH-INTERVAL:P3D
CALSCALE:GREGORIAN
BEGIN:VEVENT
DTSTART:20171223T213000Z
DTEND:20171223T230000Z
X-MICROSOFT-CDO-ALLDAYEVENT:FALSE
SUMMARY:Ken Albert and Christine Hill at Tinderbox
DESCRIPTION:Ken Albert and Christine Hill will perform a set of all Christmas music at 1:30 pm\, Saturday\, December 23rd at Tinderbox Coffee Roasters in Aberdeen. Come\, take a break from your last minute shopping and enjoy a delicious beverage and/or a sweet treat while we provide the Christmas tunes. No cover.
X-ALT-DESC;FMTTYPE=text/html:<span style="color: rgb(75\, 79\, 86)\; font-family: Helvetica\, Arial\, sans-serif\; font-size: 14px\; background-color: rgb(255\, 255\, 255)\;">Ken Albert and Christine Hill will perform a set of all Christmas music at 1:30 pm\, Saturday\, December 23rd at Tinderbox Coffee Roasters in Aberdeen. Come\, take a break from your last minute shopping and enjoy a delicious beverage and/or a sweet treat while we provide the Christmas tunes. No cover.</span>
LOCATION:Tinderbox Coffee Roasters Aberdeen\, WA 98520
UID:e.26.9425
SEQUENCE:3
DTSTAMP:20260425T163930Z
URL:https://chamber.graysharbor.org/events/details/ken-albert-and-christine-hill-at-tinderbox-9425
END:VEVENT

END:VCALENDAR
