BEGIN:VCALENDAR
VERSION:2.0
PRODID:-//ChamberMaster//Event Calendar 2.0//EN
METHOD:PUBLISH
X-PUBLISHED-TTL:P3D
REFRESH-INTERVAL:P3D
CALSCALE:GREGORIAN
BEGIN:VEVENT
DTSTART:20181016T010000Z
DTEND:20181016T040000Z
X-MICROSOFT-CDO-ALLDAYEVENT:FALSE
SUMMARY:Kick off to Festival
DESCRIPTION:Join us for the kick of our 15th Annual Celtic Music Festival! Limited seating dinner theater setting with live music from Hank Cramer\, Curlew's and Harmony Ridge. A fun night for all at 8th St. Ale House!
X-ALT-DESC;FMTTYPE=text/html:<span style="color: rgb(29\, 33\, 41)\; font-family: Helvetica\, Arial\, sans-serif\; font-size: 14px\; background-color: rgb(255\, 255\, 255)\;">Join us for the kick of our 15th Annual Celtic Music Festival! Limited seating dinner theater setting with live music from Hank Cramer\, Curlew&#39\;s and Harmony Ridge. A fun night for all at 8th St. Ale House!</span>
LOCATION:8th St. Ale House Hoquiam\, WA
UID:e.26.11205
SEQUENCE:3
DTSTAMP:20260425T002207Z
URL:https://chamber.graysharbor.org/events/details/kick-off-to-festival-11205
END:VEVENT

END:VCALENDAR
