BEGIN:VCALENDAR
VERSION:2.0
PRODID:-//ChamberMaster//Event Calendar 2.0//EN
METHOD:PUBLISH
X-PUBLISHED-TTL:P3D
REFRESH-INTERVAL:P3D
CALSCALE:GREGORIAN
BEGIN:VEVENT
DTSTART:20171022T010000Z
DTEND:20171022T040000Z
X-MICROSOFT-CDO-ALLDAYEVENT:FALSE
SUMMARY:Kids Halloween Party!
DESCRIPTION:Kids Halloween Party!!!\n\nWe are so excited for our 2nd year! Make sure you figure out your best costume and come down to Bulldog Lanes for some fun! We will have games set up around the bowling alley\, pumpkin cookie decorating\, costume contest\, bingo\, and food! $7.00 per kiddos! This includes all the game we have set up and the pumpkin decoration\, plus we will provide a snack! Make sure you bring a sack to take home all your prizes! If you would like to bowl it is first come first serve on the lanes! $1.50 per game and FREE shoes! Contact Bulldog Lanes with any questions!
X-ALT-DESC;FMTTYPE=text/html:<h1 class="_5gmx" data-testid="event-permalink-event-name" id="seo_h1_tag" style="color: rgb(29\, 33\, 41)\; font-size: 20px\; margin: 0px 12px 0px 0px\; padding: 0px\; font-weight: normal\; line-height: 28px\; font-family: Helvetica\, Arial\, sans-serif\; background-color: rgb(255\, 255\, 255)\;">Kids Halloween Party!!!</h1>\n\n<div class="_2qgs" style="color: rgb(75\, 79\, 86)\; padding: 12px\; position: relative\; border-top: none\; font-family: Helvetica\, Arial\, sans-serif\; font-size: 12px\;"><span class="_4n-j _3cht fsl" data-testid="event-permalink-details" style="font-size: 14px\; font-family: inherit\;">We are so excited for our 2nd year! Make sure you figure out your best costume and come down to Bulldog Lanes for some fun! We will have games set up around the bowling alley\, pumpkin cookie decorating\, costume contest\, bingo\, and food! $7.00 per kiddos! This includes all the game we have set up and the pumpkin decoration\, plus we will provide a snack! Make sure you bring a sack to take home all your prizes! If you would like to bowl it is first come first serve on the lanes! $1.50 per game and FREE shoes! Contact Bulldog Lanes with any questions!</span></div>\n\n<div class="_1r51" style="line-height: 24px\; margin: 4px 12px 12px\; min-height: 24px\; font-family: Helvetica\, Arial\, sans-serif\; color: rgb(29\, 33\, 41)\; font-size: 12px\;">\n<ul class="uiList uiCollapsedList uiCollapsedListHidden _509- _4ki" id="u_jsonp_18_n" style="list-style-type: none\; margin: 0px\; padding: 0px\;">\n	<li style="border-width: 0px\; display: inline-block\; vertical-align: top\;">&nbsp\;</li>\n</ul>\n</div>\n
LOCATION:Bulldog Lanes 222 Wynoochee Ave Montesano\, WA
UID:e.26.8281
SEQUENCE:3
DTSTAMP:20260425T195700Z
URL:https://chamber.graysharbor.org/events/details/kids-halloween-party-8281
END:VEVENT

END:VCALENDAR
