BEGIN:VCALENDAR
VERSION:2.0
PRODID:-//ChamberMaster//Event Calendar 2.0//EN
METHOD:PUBLISH
X-PUBLISHED-TTL:P3D
REFRESH-INTERVAL:P3D
CALSCALE:GREGORIAN
BEGIN:VEVENT
DTSTART:20171209T023000Z
DTEND:20171208T200000Z
X-MICROSOFT-CDO-ALLDAYEVENT:FALSE
SUMMARY:Kids Painting Class
DESCRIPTION:Kids painting class by The Tipsy Easel at Game Freaks in Aberdeen! Parents are welcome to attend.\n\nWe supply everything needed to paint. We advise that you dress for the mess! \n\n**You are encouraged to bring aprons from home.\n\nYou will walk away with an irreplaceable memory and a masterpiece! \n\n(No artistic ability is needed! You will be guided through the process step by step!)\n\n\n\nCancelation Policy: ALL SALES ARE FINAL. you may be credited for a future event up to 48 hours before the event start time. Once we hit the 48 hour mark we can no longer issue credits. (If you cannot make it to the event please let us know ASAP so we can fill your space)
X-ALT-DESC;FMTTYPE=text/html:<span style="color: rgb(75\, 79\, 86)\; font-family: Helvetica\, Arial\, sans-serif\; font-size: 14px\; background-color: rgb(255\, 255\, 255)\;">Kids painting class by The Tipsy Easel at Game Freaks in Aberdeen! Parents are welcome to attend.<br />\nWe supply everything needed to paint. We advise that you dress for the mess!&nbsp\;</span><br style="color: rgb(75\, 79\, 86)\; font-family: Helvetica\, Arial\, sans-serif\; font-size: 14px\; background-color: rgb(255\, 255\, 255)\;" />\n<span style="color: rgb(75\, 79\, 86)\; font-family: Helvetica\, Arial\, sans-serif\; font-size: 14px\; background-color: rgb(255\, 255\, 255)\;">**You are encouraged to bring aprons from home.</span><br style="color: rgb(75\, 79\, 86)\; font-family: Helvetica\, Arial\, sans-serif\; font-size: 14px\; background-color: rgb(255\, 255\, 255)\;" />\n<span style="color: rgb(75\, 79\, 86)\; font-family: Helvetica\, Arial\, sans-serif\; font-size: 14px\; background-color: rgb(255\, 255\, 255)\;">You will walk away with an irreplaceable memory and a masterpiece!&nbsp\;</span><br style="color: rgb(75\, 79\, 86)\; font-family: Helvetica\, Arial\, sans-serif\; font-size: 14px\; background-color: rgb(255\, 255\, 255)\;" />\n<span style="color: rgb(75\, 79\, 86)\; font-family: Helvetica\, Arial\, sans-serif\; font-size: 14px\; background-color: rgb(255\, 255\, 255)\;">(No artistic ability is needed! You will be guided through the process step by step!)</span><br style="color: rgb(75\, 79\, 86)\; font-family: Helvetica\, Arial\, sans-serif\; font-size: 14px\; background-color: rgb(255\, 255\, 255)\;" />\n<br style="color: rgb(75\, 79\, 86)\; font-family: Helvetica\, Arial\, sans-serif\; font-size: 14px\; background-color: rgb(255\, 255\, 255)\;" />\n<span style="color: rgb(75\, 79\, 86)\; font-family: Helvetica\, Arial\, sans-serif\; font-size: 14px\; background-color: rgb(255\, 255\, 255)\;">Cancelation Policy: ALL SALES ARE FINAL. you may be credited for a future event up to 48 hours before the event start time. Once we hit the 48 hour mark we can no longer issue credits. (If you cannot make it to the event please let us know ASAP so we can fill your space)</span>
LOCATION:Game Freaks 2616 Simpson Ave. Aberdeen\, WA
UID:e.26.8385
SEQUENCE:3
DTSTAMP:20260425T163710Z
URL:https://chamber.graysharbor.org/events/details/kids-painting-class-8385
END:VEVENT

END:VCALENDAR
