BEGIN:VCALENDAR
VERSION:2.0
PRODID:-//ChamberMaster//Event Calendar 2.0//EN
METHOD:PUBLISH
X-PUBLISHED-TTL:P3D
REFRESH-INTERVAL:P3D
CALSCALE:GREGORIAN
BEGIN:VEVENT
DTSTART:20190301T201500Z
DTEND:20190301T204500Z
X-MICROSOFT-CDO-ALLDAYEVENT:FALSE
SUMMARY:Killer Cutz Ribbon Cutting
DESCRIPTION:Greater Grays Harbor will only be hosting a new business ribbon cutting event on Friday\, March 1st! The ribbon cutting will take place at 12:15pm at Killer Cutz located at 722 Simpson Ave. in Hoquiam.\n\n\n\n \n\n\n\nThis business will be run by siblings Kanoa and Keone (both under the age of 20!) so come out and show these young professionals some support and welcome them to the community!
X-ALT-DESC;FMTTYPE=text/html:<div data-block="true" data-editor="9nauj" data-offset-key="ds7mm-0-0" style="font-family: system-ui\, -apple-system\, BlinkMacSystemFont\, &quot\;.SFNSText-Regular&quot\;\, sans-serif\; caret-color: rgb(29\, 33\, 41)\; color: rgb(29\, 33\, 41)\; font-size: 12px\; white-space: pre-wrap\;">\n<div class="_1mf _1mj" data-offset-key="ds7mm-0-0" style="position: relative\; direction: ltr\; font-family: inherit\;"><span data-offset-key="ds7mm-0-0" style="font-family: inherit\;">Greater Grays Harbor will only be hosting a new business ribbon cutting event on Friday\, March 1st! The ribbon cutting will take place at 12:15pm at Killer Cutz located at 722 Simpson Ave. in Hoquiam.</span></div>\n</div>\n\n<div data-block="true" data-editor="9nauj" data-offset-key="d6g8b-0-0" style="font-family: system-ui\, -apple-system\, BlinkMacSystemFont\, &quot\;.SFNSText-Regular&quot\;\, sans-serif\; caret-color: rgb(29\, 33\, 41)\; color: rgb(29\, 33\, 41)\; font-size: 12px\; white-space: pre-wrap\;">\n<div class="_1mf _1mj" data-offset-key="d6g8b-0-0" style="position: relative\; direction: ltr\; font-family: inherit\;">&nbsp\;</div>\n</div>\n\n<div data-block="true" data-editor="9nauj" data-offset-key="73be2-0-0" style="font-family: system-ui\, -apple-system\, BlinkMacSystemFont\, &quot\;.SFNSText-Regular&quot\;\, sans-serif\; caret-color: rgb(29\, 33\, 41)\; color: rgb(29\, 33\, 41)\; font-size: 12px\; white-space: pre-wrap\;">\n<div class="_1mf _1mj" data-offset-key="73be2-0-0" style="position: relative\; direction: ltr\; font-family: inherit\;"><span data-offset-key="73be2-0-0" style="font-family: inherit\;">This business will be run by siblings Kanoa and Keone (both under the age of 20!) so come out and show these young professionals some support and welcome them to the community!</span></div>\n</div>\n
LOCATION:Killer Cutz 722 Simpson Ave. Hoquiam\, WA
UID:e.26.11783
SEQUENCE:3
DTSTAMP:20260424T163450Z
URL:https://chamber.graysharbor.org/events/details/killer-cutz-ribbon-cutting-11783
END:VEVENT

END:VCALENDAR
