BEGIN:VCALENDAR
VERSION:2.0
PRODID:-//ChamberMaster//Event Calendar 2.0//EN
METHOD:PUBLISH
X-PUBLISHED-TTL:P3D
REFRESH-INTERVAL:P3D
CALSCALE:GREGORIAN
BEGIN:VEVENT
DTSTART;VALUE=DATE:20210430
DTEND;VALUE=DATE:20210503
TRANSP:TRANSPARENT
X-MICROSOFT-CDO-ALLDAYEVENT:TRUE
SUMMARY:Kite Invasion Fun Fly at Ocean Shores
DESCRIPTION:Come on out and enjoy the miles of open space to fly kites in beautiful Ocean Shores! Watch the sky fill with color with the calming sounds of the ocean in the background. \n\n\n\nPlease practice social distancing.
X-ALT-DESC;FMTTYPE=text/html:<div class="kvgmc6g5 cxmmr5t8 oygrvhab hcukyx3x c1et5uql" style="word-wrap: break-word\; margin: 0px\; font-family: inherit\;"><span class="d2edcug0 hpfvmrgz qv66sw1b c1et5uql oi732d6d ik7dh3pa ht8s03o8 a8c37x1j keod5gw0 nxhoafnm aigsh9s9 d9wwppkn fe6kdd0r mau55g9w c8b282yb iv3no6db jq4qci2q a3bd9o3v knj5qynh oo9gr5id" dir="auto" style="caret-color: rgb(0\, 0\, 0)\; color: var(--primary-text)\; line-height: 1.3333\; display: block\; word-wrap: break-word\; max-width: 100%\; min-width: 0px\; font-family: system-ui\, -apple-system\, BlinkMacSystemFont\, &quot\;.SFNSText-Regular&quot\;\, sans-serif\; -webkit-font-smoothing: antialiased\; font-size: 0.9375rem\; word-break: break-word\;"><span style="font-family:arial\;">Come on out and enjoy the&nbsp\;miles of open space to fly kites in beautiful Ocean Shores! Watch the sky fill with color with the calming sounds of the ocean in the background.&nbsp\;<br />\n<br />\nPlease practice social distancing.&nbsp\;</span></span></div>\n
LOCATION:Ocean Shores\, WA
UID:e.26.12605
SEQUENCE:3
DTSTAMP:20260424T112123Z
URL:https://chamber.graysharbor.org/events/details/kite-invasion-fun-fly-at-ocean-shores-12605
END:VEVENT

END:VCALENDAR
