BEGIN:VCALENDAR
VERSION:2.0
PRODID:-//ChamberMaster//Event Calendar 2.0//EN
METHOD:PUBLISH
X-PUBLISHED-TTL:P3D
REFRESH-INTERVAL:P3D
CALSCALE:GREGORIAN
BEGIN:VEVENT
DTSTART:20190630T020000Z
DTEND:20190630T040000Z
X-MICROSOFT-CDO-ALLDAYEVENT:FALSE
SUMMARY:Kristin Marlo LIVE
DESCRIPTION:Kristin Marlo will be performing LIVE at the Mount Olympus Brewery in downtown Aberdeen starting at 7pm and going until 9.pm Bring your friends or a great night out!
X-ALT-DESC;FMTTYPE=text/html:<font color="#1d2129"><span style="font-size: 14px\; white-space: pre-wrap\;">Kristin Marlo will be performing LIVE at the Mount Olympus Brewery in downtown Aberdeen starting at 7pm and going until 9.pm Bring your friends or a great night out!</span></font>
LOCATION:pin Mount Olympus Brewing Company 105 W HERON ST\, Aberdeen\, Washington 98520
UID:e.26.12069
SEQUENCE:3
DTSTAMP:20260424T115913Z
URL:https://chamber.graysharbor.org/events/details/kristin-marlo-live-12069
END:VEVENT

END:VCALENDAR
