BEGIN:VCALENDAR
VERSION:2.0
PRODID:-//ChamberMaster//Event Calendar 2.0//EN
METHOD:PUBLISH
X-PUBLISHED-TTL:P3D
REFRESH-INTERVAL:P3D
CALSCALE:GREGORIAN
BEGIN:VEVENT
DTSTART:20180901T170000Z
DTEND:20180902T010000Z
X-MICROSOFT-CDO-ALLDAYEVENT:FALSE
SUMMARY:Labor Day Weekend 2018 at Oyhut Bay-Seaside Village
DESCRIPTION:Join us at Oyhut Bay Seaside Village in Ocean Shores on Saturday\, September 1 as we celebrate Labor Day Weekend on the Natural Side of Ocean Shores. \n\nOcean Shores "Paddle the Shores" paddle event featuring human powered boat races\, Poker Paddle\, Rubber Duck activities\, cardboard boat construction\, and races. Speakers\, demos\, and fun. Just across the way in the Oyhut Bay Village Square enjoy a 2 day Music Festival.\n\nOutdoor games including a cornhole tournament.Vendors\, food\, and fun for the entire family. The perfect way to end your summer at Oyhut Bay Seaside Village. Co-sponsored by the Ocean Shores Yacht Club and Fresh Waterways Corporation.
X-ALT-DESC;FMTTYPE=text/html:<span style="color: rgb(75\, 79\, 86)\; font-family: Helvetica\, Arial\, sans-serif\; font-size: 14px\; background-color: rgb(255\, 255\, 255)\;">Join us at Oyhut Bay Seaside Village in Ocean Shores on Saturday\, September 1 as we celebrate Labor Day Weekend on the Natural Side of Ocean Shores.&nbsp\;</span><br style="color: rgb(75\, 79\, 86)\; font-family: Helvetica\, Arial\, sans-serif\; font-size: 14px\; background-color: rgb(255\, 255\, 255)\;" />\n<span style="color: rgb(75\, 79\, 86)\; font-family: Helvetica\, Arial\, sans-serif\; font-size: 14px\; background-color: rgb(255\, 255\, 255)\;">Ocean Shores &quot\;Paddle the Shores&quot\; paddle event featuring human powered boat races\, Poker Paddle\, Rubber Duck activities\, cardboard boat construction\, and races. Speakers\, demos\, and fun. Just across the way in the Oyhut Bay Village Square enjoy a 2 day Music Festival.</span><br style="color: rgb(75\, 79\, 86)\; font-family: Helvetica\, Arial\, sans-serif\; font-size: 14px\; background-color: rgb(255\, 255\, 255)\;" />\n<span style="color: rgb(75\, 79\, 86)\; font-family: Helvetica\, Arial\, sans-serif\; font-size: 14px\; background-color: rgb(255\, 255\, 255)\;">Outdoor games including a cornhole tournament.Vendors\, food\, and fun for the entire family. The perfect way to end your summer at Oyhut Bay Seaside Village. Co-sponsored by the Ocean Shores Yacht Club and Fresh Waterways Corporation.</span>
LOCATION:Oyhut Bay Ocean Shores
UID:e.26.9512
SEQUENCE:3
DTSTAMP:20260425T015948Z
URL:https://chamber.graysharbor.org/events/details/labor-day-weekend-2018-at-oyhut-bay-seaside-village-9512
END:VEVENT

END:VCALENDAR
