BEGIN:VCALENDAR
VERSION:2.0
PRODID:-//ChamberMaster//Event Calendar 2.0//EN
METHOD:PUBLISH
X-PUBLISHED-TTL:P3D
REFRESH-INTERVAL:P3D
CALSCALE:GREGORIAN
BEGIN:VEVENT
DTSTART:20191110T030000Z
DTEND:20191110T050000Z
X-MICROSOFT-CDO-ALLDAYEVENT:FALSE
SUMMARY:Labor Wars of the Northwest
DESCRIPTION:A rocky slice of Grays Harbor and Northwest history is revisited in the new documentary\, Labor Wars of the Northwest. \n\nWritten and directed by Northwest historian David Jepsen\, Labor Wars chronicles the labor unrest\, strikes\, and gunfights that roiled throughout the region a century ago\, including the radicalism and violence that erupted when labor activists and town leaders brawled in Aberdeen and Hoquiam.  \n\nThe film also examines labor conflict in the context of a decades-long struggle that began with the arrival of the railroads in the 1880s. It shines new light on the 1911 conflicts in Aberdeen\, the tragedy in Centralia\, and the Seattle General Strike of 1919.\n\nMr. Jepsen will lead a discussion on labor history and answer audience questions following the film.\n\nThe 7th Street Theatre and the Polson Museum are jointly sponsoring the film's screening.\n\nFor more information\, contact the Polson Museum at: 360.533.5862.
X-ALT-DESC;FMTTYPE=text/html:<p style="box-sizing: border-box\; margin: 0px 0px 10px\; font-family: &quot\;Helvetica Neue&quot\;\, Helvetica\, Arial\, sans-serif\; font-size: 14px\;"><span style="font-size:14px\;">A rocky slice of Grays Harbor and Northwest history is revisited in the new documentary\,&nbsp\;<em style="box-sizing: border-box\;">Labor Wars of the Northwest.&nbsp\;</em></span></p>\n\n<p style="box-sizing: border-box\; margin: 0px 0px 10px\; font-family: &quot\;Helvetica Neue&quot\;\, Helvetica\, Arial\, sans-serif\; font-size: 14px\;"><span style="font-size:14px\;">Written and directed by Northwest historian David Jepsen<em style="box-sizing: border-box\;">\, Labor Wars&nbsp\;</em>chronicles the labor unrest\, strikes\, and gunfights that roiled throughout the region a century ago\, including the radicalism and violence that erupted when labor activists and town leaders brawled in Aberdeen and Hoquiam. &nbsp\;</span></p>\n\n<p style="box-sizing: border-box\; margin: 0px 0px 10px\; font-family: &quot\;Helvetica Neue&quot\;\, Helvetica\, Arial\, sans-serif\; font-size: 14px\;"><span style="font-size:14px\;">The film also examines labor conflict in the context of a decades-long struggle that began with the arrival of the railroads in the 1880s. It shines new light on the 1911 conflicts in Aberdeen\, the tragedy in Centralia\, and the Seattle General Strike of 1919.</span></p>\n\n<p style="box-sizing: border-box\; margin: 0px 0px 10px\; font-family: &quot\;Helvetica Neue&quot\;\, Helvetica\, Arial\, sans-serif\; font-size: 14px\;"><span style="font-size:14px\;">Mr. Jepsen will lead a discussion on labor history and answer audience questions following the film.</span></p>\n\n<p style="box-sizing: border-box\; margin: 0px 0px 10px\; font-family: &quot\;Helvetica Neue&quot\;\, Helvetica\, Arial\, sans-serif\; font-size: 14px\;"><span style="font-size:14px\;">The 7th Street Theatre and the Polson Museum are jointly sponsoring the film&rsquo\;s screening.</span></p>\n\n<p style="box-sizing: border-box\; margin: 0px 0px 10px\; font-family: &quot\;Helvetica Neue&quot\;\, Helvetica\, Arial\, sans-serif\; font-size: 14px\;"><span style="font-size:14px\;">For more information\, contact the Polson Museum at: 360.533.5862.</span></p>\n
LOCATION:7th St. Theatre Hoquiam\, WA
UID:e.26.12276
SEQUENCE:3
DTSTAMP:20260424T042138Z
URL:https://chamber.graysharbor.org/events/details/labor-wars-of-the-northwest-12276
END:VEVENT

END:VCALENDAR
