BEGIN:VCALENDAR
VERSION:2.0
PRODID:-//ChamberMaster//Event Calendar 2.0//EN
METHOD:PUBLISH
X-PUBLISHED-TTL:P3D
REFRESH-INTERVAL:P3D
CALSCALE:GREGORIAN
BEGIN:VEVENT
DTSTART:20171109T020000Z
DTEND:20171109T040000Z
X-MICROSOFT-CDO-ALLDAYEVENT:FALSE
SUMMARY:Ladies Night 2017
DESCRIPTION:Please join us for our 10th Annual Ladies Night!\n\nThis year the theme is Mad Hatter Tea Party! So please dress up\, wear a hat\, or come as you are. \n\nDon't forget your donation for our Local Food bank to be entered into a great drawing!\n\nThanks to all the donations\, last year we raised 1041lbs of food and over $200 in cash! Lets try to beat that this year.\n\n\n\nMust be 21 years old to attend.
X-ALT-DESC;FMTTYPE=text/html:<span style="color: rgb(75\, 79\, 86)\; font-family: Helvetica\, Arial\, sans-serif\; font-size: 14px\; background-color: rgb(255\, 255\, 255)\;">Please join us for our 10th Annual Ladies Night!</span><br style="color: rgb(75\, 79\, 86)\; font-family: Helvetica\, Arial\, sans-serif\; font-size: 14px\; background-color: rgb(255\, 255\, 255)\;" />\n<span style="color: rgb(75\, 79\, 86)\; font-family: Helvetica\, Arial\, sans-serif\; font-size: 14px\; background-color: rgb(255\, 255\, 255)\;">This year the theme is Mad Hatter Tea Party! So please dress up\, wear a hat\, or come as you are.&nbsp\;</span><br style="color: rgb(75\, 79\, 86)\; font-family: Helvetica\, Arial\, sans-serif\; font-size: 14px\; background-color: rgb(255\, 255\, 255)\;" />\n<span style="color: rgb(75\, 79\, 86)\; font-family: Helvetica\, Arial\, sans-serif\; font-size: 14px\; background-color: rgb(255\, 255\, 255)\;">Don&#39\;t forget your donation for our Local Food bank to be entered into a great drawing!</span><br style="color: rgb(75\, 79\, 86)\; font-family: Helvetica\, Arial\, sans-serif\; font-size: 14px\; background-color: rgb(255\, 255\, 255)\;" />\n<span style="color: rgb(75\, 79\, 86)\; font-family: Helvetica\, Arial\, sans-serif\; font-size: 14px\; background-color: rgb(255\, 255\, 255)\;">Thanks to all the donations\, last year we raised 1041lbs of food and over $200 in cash! Lets try to beat that this year.</span><br style="color: rgb(75\, 79\, 86)\; font-family: Helvetica\, Arial\, sans-serif\; font-size: 14px\; background-color: rgb(255\, 255\, 255)\;" />\n<br style="color: rgb(75\, 79\, 86)\; font-family: Helvetica\, Arial\, sans-serif\; font-size: 14px\; background-color: rgb(255\, 255\, 255)\;" />\n<span style="color: rgb(75\, 79\, 86)\; font-family: Helvetica\, Arial\, sans-serif\; font-size: 14px\; background-color: rgb(255\, 255\, 255)\;">Must be 21 years old to attend.</span>
LOCATION:Buck Electric Ace Hardware Ocean Shores\, WA
UID:e.26.8304
SEQUENCE:3
DTSTAMP:20260425T181107Z
URL:https://chamber.graysharbor.org/events/details/ladies-night-2017-8304
END:VEVENT

END:VCALENDAR
