BEGIN:VCALENDAR
VERSION:2.0
PRODID:-//ChamberMaster//Event Calendar 2.0//EN
METHOD:PUBLISH
X-PUBLISHED-TTL:P3D
REFRESH-INTERVAL:P3D
CALSCALE:GREGORIAN
BEGIN:VEVENT
DTSTART;VALUE=DATE:20181004
DTEND;VALUE=DATE:20181005
TRANSP:TRANSPARENT
X-MICROSOFT-CDO-ALLDAYEVENT:TRUE
SUMMARY:Ladies' Night Out
DESCRIPTION:A free women's health workshop!\n\nInvite your mom\, your sister and your closest girlfriends to join you for a fun-filled evening of great food\, prizes and most important informative discussions regarding various health topics that directly impact women at various stages of life. Take this opportunity to do something for you!
X-ALT-DESC;FMTTYPE=text/html:<h2 style="margin: 15px 0px 2px\; padding: 0px 0px 2px\; border: 0px\; outline: 0px\; font-size: 1.667em\; vertical-align: baseline\; background: rgb(255\, 255\, 255)\; line-height: 1.2\; font-family: &quot\;Yanone Kaffeesatz&quot\;\; font-weight: normal\; color: rgb(51\, 51\, 51)\;">A free women&rsquo\;s health workshop!</h2>\n\n<p style="margin: 0px 0px 5px\; padding: 5px 0px\; border: 0px\; outline: 0px\; font-size: 12px\; vertical-align: baseline\; background: rgb(255\, 255\, 255)\; color: rgb(51\, 51\, 51)\; font-family: Arial\;">Invite your mom\, your sister and your closest girlfriends to join you for a fun-filled evening of great food\, prizes and most important&hellip\;informative discussions regarding various health topics that directly impact women at various stages of life. Take this opportunity to do something for you!</p>\n
LOCATION:Summit Pacific Medical Center Elma\, WA
UID:e.26.10562
SEQUENCE:3
DTSTAMP:20260425T001943Z
URL:https://chamber.graysharbor.org/events/details/ladies-night-out-10562
END:VEVENT

END:VCALENDAR
