BEGIN:VCALENDAR
VERSION:2.0
PRODID:-//ChamberMaster//Event Calendar 2.0//EN
METHOD:PUBLISH
X-PUBLISHED-TTL:P3D
REFRESH-INTERVAL:P3D
CALSCALE:GREGORIAN
BEGIN:VEVENT
DTSTART:20171106T020000Z
DTEND:20171106T043000Z
X-MICROSOFT-CDO-ALLDAYEVENT:FALSE
SUMMARY:Ladies Worship and Fellowship Night
DESCRIPTION:
X-ALT-DESC;FMTTYPE=text/html:
LOCATION:Grays Harbor Foursquare Church 4800 Central Park Dr. Aberdeen
UID:e.26.8322
SEQUENCE:3
DTSTAMP:20260425T181613Z
URL:https://chamber.graysharbor.org/events/details/ladies-worship-and-fellowship-night-8322
END:VEVENT

END:VCALENDAR
