BEGIN:VCALENDAR
VERSION:2.0
PRODID:-//ChamberMaster//Event Calendar 2.0//EN
METHOD:PUBLISH
X-PUBLISHED-TTL:P3D
REFRESH-INTERVAL:P3D
CALSCALE:GREGORIAN
BEGIN:VEVENT
DTSTART;VALUE=DATE:20190703
DTEND;VALUE=DATE:20190708
TRANSP:TRANSPARENT
X-MICROSOFT-CDO-ALLDAYEVENT:TRUE
SUMMARY:Lady Washington Tours in Aberdeen
DESCRIPTION:Head to the Grays Harbor Historical Seaport for Fourth of July tours on the historic Lady Washington! Tour the official ship of WA State for just $5\, or go sign up for an Adventure Sail.\n\nThis year the Seaport is offering battle sails as well as the very special Fireworks Sail during Aberdeen's Splash Festival. On July 5th they're offering a special sailing to Westport and an evening sail where you watch a magnificent sunset from the deck.\n\nTo reserve your sail\, visit the Grays Harbor Historical Seaport website.
X-ALT-DESC;FMTTYPE=text/html:<span style="font-size:16px\;"><span style="caret-color: rgb(34\, 34\, 34)\; color: rgb(34\, 34\, 34)\;">Head to the&nbsp\;</span><a class="external" href="https://www.historicalseaport.org/" rel="nofollow" style="box-sizing: border-box\; background-color: transparent\; color: rgb(77\, 178\, 236)\; text-decoration: none\; font-family: Verdana\, Geneva\, sans-serif\; font-size: 15px\;" target="_blank">Grays Harbor Historical Seaport</a><span style="caret-color: rgb(34\, 34\, 34)\; color: rgb(34\, 34\, 34)\;">&nbsp\;for Fourth of July tours on the historic Lady Washin</span></span><span style="font-size:16px\;"><span style="caret-color: rgb(34\, 34\, 34)\; color: rgb(34\, 34\, 34)\;">gton! Tour the official ship of WA State for just $5\, or go sign up for an Adventure Sail.<br />\nThis year the Seaport is offering battle sails as well as the very special Fireworks Sail during Aberdeen&#39\;s Splash Festival. On July 5th they&#39\;re offering a special sailing to Westport and an evening sail where you watch a magnificent sunset from the deck.<br />\nTo reserve your sail\, visit the&nbsp\;</span><a class="external" href="https://www.historicalseaport.org/public-tours-sails/sailing-schedule/aberdeen-washington/" rel="nofollow" style="box-sizing: border-box\; background-color: transparent\; color: rgb(77\, 178\, 236)\; text-decoration: none\; font-family: Verdana\, Geneva\, sans-serif\; font-size: 15px\;" target="_blank">Grays Harbor Historical Seaport website.</a></span>
LOCATION:Grays Harbor Historical Seaport Aberdeen\, WA
UID:e.26.12088
SEQUENCE:3
DTSTAMP:20260424T104330Z
URL:https://chamber.graysharbor.org/events/details/lady-washington-tours-in-aberdeen-12088
END:VEVENT

END:VCALENDAR
