BEGIN:VCALENDAR
VERSION:2.0
PRODID:-//ChamberMaster//Event Calendar 2.0//EN
METHOD:PUBLISH
X-PUBLISHED-TTL:P3D
REFRESH-INTERVAL:P3D
CALSCALE:GREGORIAN
BEGIN:VEVENT
DTSTART:20180826T170000Z
DTEND:20180826T230000Z
X-MICROSOFT-CDO-ALLDAYEVENT:FALSE
SUMMARY:Lake Quinault Craft Fair & Bake Sale
DESCRIPTION:LOCAL ARTISANS FEATURED AT LAKE QUINUALT CRAFT FAIR & BAKE SALE\, SUNDAY\, AUGUST 26\n\nThe Lake Quinault Community Circle will host the Second Annual Summer Craft Fair and Bake Sale on Sunday\, August 26\, from 10 a.m. to 4 p.m. The event will be held in Amanda Park\, conveniently located right on Highway 101 just north of Lake Quinault.\n\nArtists and craftsmen from around the Olympic Peninsula will display a variety of hand-crafted jewelry\, woodwork\, arts\, photography\, gifts and crafts reflective of the Pacific Northwest culture. Fresh herbs\, produce\, honey and home-made baked goods will also be for sale.
X-ALT-DESC;FMTTYPE=text/html:<p>LOCAL ARTISANS FEATURED AT LAKE QUINUALT CRAFT FAIR &amp\; BAKE SALE\, SUNDAY\, AUGUST 26</p>\n\n<p>The Lake Quinault Community Circle will host the Second Annual Summer Craft Fair and Bake Sale on Sunday\, August 26\, from 10 a.m. to 4 p.m. The event will be held in Amanda Park\, conveniently located right on Highway 101 just north of Lake Quinault.</p>\n\n<p>Artists and craftsmen from around the Olympic Peninsula will display a variety of hand-crafted jewelry\, woodwork\, arts\, photography\, gifts and crafts reflective of the Pacific Northwest culture. Fresh herbs\, produce\, honey and home-made baked goods will also be for sale.</p>\n
LOCATION:Amanda Park
UID:e.26.11199
SEQUENCE:3
DTSTAMP:20260425T034644Z
URL:https://chamber.graysharbor.org/events/details/lake-quinault-craft-fair-bake-sale-11199
END:VEVENT

END:VCALENDAR
