BEGIN:VCALENDAR
VERSION:2.0
PRODID:-//ChamberMaster//Event Calendar 2.0//EN
METHOD:PUBLISH
X-PUBLISHED-TTL:P3D
REFRESH-INTERVAL:P3D
CALSCALE:GREGORIAN
BEGIN:VEVENT
DTSTART:20170624T190000Z
DTEND:20170624T190000Z
X-MICROSOFT-CDO-ALLDAYEVENT:FALSE
SUMMARY:Lake Quinault Rain Forest Bike Ride
DESCRIPTION:Lake Quinault Rain Forest\n\n28th Annual Cancer Fund and Community Circle Bike Ride\n\n\n\nBenefits the Quinault Cancer Fund and Lake Quinault Community Circle
X-ALT-DESC;FMTTYPE=text/html:<u>Lake Quinault Rain Forest<br />\n28th Annual Cancer Fund and Community Circle Bike Ride</u><br />\n<br />\n<em>Benefits the Quinault Cancer Fund and Lake Quinault Community Circle</em>
LOCATION:Lake Quinault
UID:e.26.7699
SEQUENCE:3
DTSTAMP:20260426T015730Z
URL:https://chamber.graysharbor.org/events/details/lake-quinault-rain-forest-bike-ride-7699
END:VEVENT

END:VCALENDAR
